BEGIN:VCALENDAR
VERSION:2.0
PRODID:-//Stouffville United Church - ECPv6.15.20//NONSGML v1.0//EN
CALSCALE:GREGORIAN
METHOD:PUBLISH
X-WR-CALNAME:Stouffville United Church
X-ORIGINAL-URL:https://stouffvilleuc.ca
X-WR-CALDESC:Events for Stouffville United Church
REFRESH-INTERVAL;VALUE=DURATION:PT1H
X-Robots-Tag:noindex
X-PUBLISHED-TTL:PT1H
BEGIN:VTIMEZONE
TZID:America/Toronto
BEGIN:DAYLIGHT
TZOFFSETFROM:-0500
TZOFFSETTO:-0400
TZNAME:EDT
DTSTART:20240310T070000
END:DAYLIGHT
BEGIN:STANDARD
TZOFFSETFROM:-0400
TZOFFSETTO:-0500
TZNAME:EST
DTSTART:20241103T060000
END:STANDARD
BEGIN:DAYLIGHT
TZOFFSETFROM:-0500
TZOFFSETTO:-0400
TZNAME:EDT
DTSTART:20250309T070000
END:DAYLIGHT
BEGIN:STANDARD
TZOFFSETFROM:-0400
TZOFFSETTO:-0500
TZNAME:EST
DTSTART:20251102T060000
END:STANDARD
BEGIN:DAYLIGHT
TZOFFSETFROM:-0500
TZOFFSETTO:-0400
TZNAME:EDT
DTSTART:20260308T070000
END:DAYLIGHT
BEGIN:STANDARD
TZOFFSETFROM:-0400
TZOFFSETTO:-0500
TZNAME:EST
DTSTART:20261101T060000
END:STANDARD
END:VTIMEZONE
BEGIN:VEVENT
DTSTART;TZID=America/Toronto:20250601T110000
DTEND;TZID=America/Toronto:20250601T110000
DTSTAMP:20260422T192527
CREATED:20241121T055304Z
LAST-MODIFIED:20250515T005021Z
UID:29146-1748775600-1748775600@stouffvilleuc.ca
SUMMARY:United Church of Canada Centennial Celebrations
DESCRIPTION:United Church of Canada Centennial Celebrations 1925-2025 on June 1\, 2025 Cluster Worship at Toronto Chinese United Church (TCUC) at 11 am.  A Joint Service of Ebenezer UC\, Heritage UC\, Stouffville UC and Toronto Chinese UC followed by a luncheon after the worship service.\nCarpooling is encouraged. Please add your name to a list on the bulletin board. 
URL:https://stouffvilleuc.ca/event/sunday-worship-service-236/
LOCATION:Toronto Chinese United Church (TCUC)\, 3300 Kennedy Road\, Scarborough\, Ontario\, L4A 0G6\, Canada
CATEGORIES:Special Event,Sunday Services
ATTACH;FMTTYPE=image/jpeg:https://stouffvilleuc.ca/wp-content/uploads/2024/11/Centennial-Celebration-TCUC.jpg
END:VEVENT
END:VCALENDAR