BEGIN:VCALENDAR
VERSION:2.0
PRODID:-//Stouffville United Church - ECPv6.15.20//NONSGML v1.0//EN
CALSCALE:GREGORIAN
METHOD:PUBLISH
X-ORIGINAL-URL:https://stouffvilleuc.ca
X-WR-CALDESC:Events for Stouffville United Church
REFRESH-INTERVAL;VALUE=DURATION:PT1H
X-Robots-Tag:noindex
X-PUBLISHED-TTL:PT1H
BEGIN:VTIMEZONE
TZID:America/Toronto
BEGIN:DAYLIGHT
TZOFFSETFROM:-0500
TZOFFSETTO:-0400
TZNAME:EDT
DTSTART:20220313T070000
END:DAYLIGHT
BEGIN:STANDARD
TZOFFSETFROM:-0400
TZOFFSETTO:-0500
TZNAME:EST
DTSTART:20221106T060000
END:STANDARD
BEGIN:DAYLIGHT
TZOFFSETFROM:-0500
TZOFFSETTO:-0400
TZNAME:EDT
DTSTART:20230312T070000
END:DAYLIGHT
BEGIN:STANDARD
TZOFFSETFROM:-0400
TZOFFSETTO:-0500
TZNAME:EST
DTSTART:20231105T060000
END:STANDARD
BEGIN:DAYLIGHT
TZOFFSETFROM:-0500
TZOFFSETTO:-0400
TZNAME:EDT
DTSTART:20240310T070000
END:DAYLIGHT
BEGIN:STANDARD
TZOFFSETFROM:-0400
TZOFFSETTO:-0500
TZNAME:EST
DTSTART:20241103T060000
END:STANDARD
END:VTIMEZONE
BEGIN:VEVENT
DTSTART;TZID=America/Toronto:20231014T100000
DTEND;TZID=America/Toronto:20231014T140000
DTSTAMP:20260424T120641
CREATED:20230831T060258Z
LAST-MODIFIED:20230831T060637Z
UID:23804-1697277600-1697292000@stouffvilleuc.ca
SUMMARY:QUILT and BAKE SALE
DESCRIPTION:UNITED CHURCH QUILT AND BAKE SALE on Saturday\, October 14th from 10:00 a.m. to 2:00 p.m. in the church sanctuary using Church Street entrance. Use South entrance for wheelchair lift. Beautiful Quilts of all sizes\, wall hangings and quilted articles available. Credit card or cash payment accepted.Quilts would make a wonderful warm addition to your bedroom or buy one as a Christmas present for someone you love.
URL:https://stouffvilleuc.ca/event/quilt-and-bake-sale/
LOCATION:Stouffville United Church\, 34 Church Street\, Stouffville\, Ontario\, L4A 0G6\, Canada
ATTACH;FMTTYPE=image/jpeg:https://stouffvilleuc.ca/wp-content/uploads/2023/08/qtq80-SvAbXr.jpeg
ORGANIZER;CN="Barb Hendren":MAILTO:bhendren@stouffvilleuc.ca
END:VEVENT
END:VCALENDAR