BEGIN:VCALENDAR
VERSION:2.0
PRODID:-//Stouffville United Church - ECPv6.15.20//NONSGML v1.0//EN
CALSCALE:GREGORIAN
METHOD:PUBLISH
X-WR-CALNAME:Stouffville United Church
X-ORIGINAL-URL:https://stouffvilleuc.ca
X-WR-CALDESC:Events for Stouffville United Church
REFRESH-INTERVAL;VALUE=DURATION:PT1H
X-Robots-Tag:noindex
X-PUBLISHED-TTL:PT1H
BEGIN:VTIMEZONE
TZID:America/Toronto
BEGIN:DAYLIGHT
TZOFFSETFROM:-0500
TZOFFSETTO:-0400
TZNAME:EDT
DTSTART:20240310T070000
END:DAYLIGHT
BEGIN:STANDARD
TZOFFSETFROM:-0400
TZOFFSETTO:-0500
TZNAME:EST
DTSTART:20241103T060000
END:STANDARD
BEGIN:DAYLIGHT
TZOFFSETFROM:-0500
TZOFFSETTO:-0400
TZNAME:EDT
DTSTART:20250309T070000
END:DAYLIGHT
BEGIN:STANDARD
TZOFFSETFROM:-0400
TZOFFSETTO:-0500
TZNAME:EST
DTSTART:20251102T060000
END:STANDARD
BEGIN:DAYLIGHT
TZOFFSETFROM:-0500
TZOFFSETTO:-0400
TZNAME:EDT
DTSTART:20260308T070000
END:DAYLIGHT
BEGIN:STANDARD
TZOFFSETFROM:-0400
TZOFFSETTO:-0500
TZNAME:EST
DTSTART:20261101T060000
END:STANDARD
END:VTIMEZONE
BEGIN:VEVENT
DTSTART;TZID=America/Toronto:20250728T130000
DTEND;TZID=America/Toronto:20250728T150000
DTSTAMP:20260422T174759
CREATED:20251113T180541Z
LAST-MODIFIED:20251113T180541Z
UID:33741-1753707600-1753714800@stouffvilleuc.ca
SUMMARY:Quilters
DESCRIPTION:Quilters are meeting in the Davis Room on Monday’s at 1pm. Quilter’s Quilt Shop: http://www.stouffvilleuc.ca/quilters-quilt-shop/ to see the many beautiful handmade quilts of all sizes\, wall hangings and quilted articles available to purchase.\nQuilter’s Quilt Shop: http://www.stouffvilleuc.ca/quilters-quilt-shop/ to see the many beautiful handmade quilts of all sizes\, wall hangings and quilted articles available to purchase.
URL:https://stouffvilleuc.ca/event/quilters-144/
CATEGORIES:Adult Group
ATTACH;FMTTYPE=image/jpeg:https://stouffvilleuc.ca/wp-content/uploads/2023/02/qtq80-DuzeJj.jpeg
END:VEVENT
END:VCALENDAR