BEGIN:VCALENDAR
VERSION:2.0
PRODID:-//Stouffville United Church - ECPv6.15.20//NONSGML v1.0//EN
CALSCALE:GREGORIAN
METHOD:PUBLISH
X-WR-CALNAME:Stouffville United Church
X-ORIGINAL-URL:https://stouffvilleuc.ca
X-WR-CALDESC:Events for Stouffville United Church
REFRESH-INTERVAL;VALUE=DURATION:PT1H
X-Robots-Tag:noindex
X-PUBLISHED-TTL:PT1H
BEGIN:VTIMEZONE
TZID:America/Toronto
BEGIN:DAYLIGHT
TZOFFSETFROM:-0500
TZOFFSETTO:-0400
TZNAME:EDT
DTSTART:20220313T070000
END:DAYLIGHT
BEGIN:STANDARD
TZOFFSETFROM:-0400
TZOFFSETTO:-0500
TZNAME:EST
DTSTART:20221106T060000
END:STANDARD
BEGIN:DAYLIGHT
TZOFFSETFROM:-0500
TZOFFSETTO:-0400
TZNAME:EDT
DTSTART:20230312T070000
END:DAYLIGHT
BEGIN:STANDARD
TZOFFSETFROM:-0400
TZOFFSETTO:-0500
TZNAME:EST
DTSTART:20231105T060000
END:STANDARD
BEGIN:DAYLIGHT
TZOFFSETFROM:-0500
TZOFFSETTO:-0400
TZNAME:EDT
DTSTART:20240310T070000
END:DAYLIGHT
BEGIN:STANDARD
TZOFFSETFROM:-0400
TZOFFSETTO:-0500
TZNAME:EST
DTSTART:20241103T060000
END:STANDARD
END:VTIMEZONE
BEGIN:VEVENT
DTSTART;TZID=America/Toronto:20230515T130000
DTEND;TZID=America/Toronto:20230515T150000
DTSTAMP:20260424T205432
CREATED:20230104T063331Z
LAST-MODIFIED:20230204T022853Z
UID:20901-1684155600-1684162800@stouffvilleuc.ca
SUMMARY:Quilters
DESCRIPTION:Quilters are meeting in the Davis Room on  Monday’s at 1pm.\n\n\n\n \n\n\n\nQuilter’s Quilt Shop: http://www.stouffvilleuc.ca/quilters-quilt-shop/ to see the many beautiful handmade quilts of all sizes\, wall hangings and quilted articles available to purchase.
URL:https://stouffvilleuc.ca/event/quilters-56/
LOCATION:Stouffville United Church – Davis Room (upstairs)\, 34 Church Street N.\, Stouffville\, Ontario\, L4A 1E3\, Canada
CATEGORIES:Adult Group
ATTACH;FMTTYPE=image/jpeg:https://stouffvilleuc.ca/wp-content/uploads/2023/02/qtq80-DuzeJj.jpeg
END:VEVENT
END:VCALENDAR