BEGIN:VCALENDAR
VERSION:2.0
PRODID:-//Stouffville United Church - ECPv6.15.20//NONSGML v1.0//EN
CALSCALE:GREGORIAN
METHOD:PUBLISH
X-ORIGINAL-URL:https://stouffvilleuc.ca
X-WR-CALDESC:Events for Stouffville United Church
REFRESH-INTERVAL;VALUE=DURATION:PT1H
X-Robots-Tag:noindex
X-PUBLISHED-TTL:PT1H
BEGIN:VTIMEZONE
TZID:America/Toronto
BEGIN:DAYLIGHT
TZOFFSETFROM:-0500
TZOFFSETTO:-0400
TZNAME:EDT
DTSTART:20240310T070000
END:DAYLIGHT
BEGIN:STANDARD
TZOFFSETFROM:-0400
TZOFFSETTO:-0500
TZNAME:EST
DTSTART:20241103T060000
END:STANDARD
BEGIN:DAYLIGHT
TZOFFSETFROM:-0500
TZOFFSETTO:-0400
TZNAME:EDT
DTSTART:20250309T070000
END:DAYLIGHT
BEGIN:STANDARD
TZOFFSETFROM:-0400
TZOFFSETTO:-0500
TZNAME:EST
DTSTART:20251102T060000
END:STANDARD
BEGIN:DAYLIGHT
TZOFFSETFROM:-0500
TZOFFSETTO:-0400
TZNAME:EDT
DTSTART:20260308T070000
END:DAYLIGHT
BEGIN:STANDARD
TZOFFSETFROM:-0400
TZOFFSETTO:-0500
TZNAME:EST
DTSTART:20261101T060000
END:STANDARD
END:VTIMEZONE
BEGIN:VEVENT
DTSTART;TZID=America/Toronto:20250602T130000
DTEND;TZID=America/Toronto:20250602T150000
DTSTAMP:20260422T193210
CREATED:20251113T180515Z
LAST-MODIFIED:20251113T180515Z
UID:33733-1748869200-1748876400@stouffvilleuc.ca
SUMMARY:Quilters
DESCRIPTION:Quilters are meeting in the Davis Room on Monday’s at 1pm. Quilter’s Quilt Shop: http://www.stouffvilleuc.ca/quilters-quilt-shop/ to see the many beautiful handmade quilts of all sizes\, wall hangings and quilted articles available to purchase.\nQuilter’s Quilt Shop: http://www.stouffvilleuc.ca/quilters-quilt-shop/ to see the many beautiful handmade quilts of all sizes\, wall hangings and quilted articles available to purchase.
URL:https://stouffvilleuc.ca/event/quilters-136/
CATEGORIES:Adult Group
ATTACH;FMTTYPE=image/jpeg:https://stouffvilleuc.ca/wp-content/uploads/2023/02/qtq80-DuzeJj.jpeg
END:VEVENT
BEGIN:VEVENT
DTSTART;TZID=America/Toronto:20250609T130000
DTEND;TZID=America/Toronto:20250609T150000
DTSTAMP:20260422T193210
CREATED:20251113T180517Z
LAST-MODIFIED:20251113T180517Z
UID:33734-1749474000-1749481200@stouffvilleuc.ca
SUMMARY:Quilters
DESCRIPTION:Quilters are meeting in the Davis Room on Monday’s at 1pm. Quilter’s Quilt Shop: http://www.stouffvilleuc.ca/quilters-quilt-shop/ to see the many beautiful handmade quilts of all sizes\, wall hangings and quilted articles available to purchase.\nQuilter’s Quilt Shop: http://www.stouffvilleuc.ca/quilters-quilt-shop/ to see the many beautiful handmade quilts of all sizes\, wall hangings and quilted articles available to purchase.
URL:https://stouffvilleuc.ca/event/quilters-137/
CATEGORIES:Adult Group
ATTACH;FMTTYPE=image/jpeg:https://stouffvilleuc.ca/wp-content/uploads/2023/02/qtq80-DuzeJj.jpeg
END:VEVENT
BEGIN:VEVENT
DTSTART;TZID=America/Toronto:20250616T130000
DTEND;TZID=America/Toronto:20250616T150000
DTSTAMP:20260422T193210
CREATED:20251113T180518Z
LAST-MODIFIED:20251113T180518Z
UID:33735-1750078800-1750086000@stouffvilleuc.ca
SUMMARY:Quilters
DESCRIPTION:Quilters are meeting in the Davis Room on Monday’s at 1pm. Quilter’s Quilt Shop: http://www.stouffvilleuc.ca/quilters-quilt-shop/ to see the many beautiful handmade quilts of all sizes\, wall hangings and quilted articles available to purchase.\nQuilter’s Quilt Shop: http://www.stouffvilleuc.ca/quilters-quilt-shop/ to see the many beautiful handmade quilts of all sizes\, wall hangings and quilted articles available to purchase.
URL:https://stouffvilleuc.ca/event/quilters-138/
CATEGORIES:Adult Group
ATTACH;FMTTYPE=image/jpeg:https://stouffvilleuc.ca/wp-content/uploads/2023/02/qtq80-DuzeJj.jpeg
END:VEVENT
BEGIN:VEVENT
DTSTART;TZID=America/Toronto:20250623T130000
DTEND;TZID=America/Toronto:20250623T150000
DTSTAMP:20260422T193210
CREATED:20251113T180527Z
LAST-MODIFIED:20251113T180527Z
UID:33736-1750683600-1750690800@stouffvilleuc.ca
SUMMARY:Quilters
DESCRIPTION:Quilters are meeting in the Davis Room on Monday’s at 1pm. Quilter’s Quilt Shop: http://www.stouffvilleuc.ca/quilters-quilt-shop/ to see the many beautiful handmade quilts of all sizes\, wall hangings and quilted articles available to purchase.\nQuilter’s Quilt Shop: http://www.stouffvilleuc.ca/quilters-quilt-shop/ to see the many beautiful handmade quilts of all sizes\, wall hangings and quilted articles available to purchase.
URL:https://stouffvilleuc.ca/event/quilters-139/
CATEGORIES:Adult Group
ATTACH;FMTTYPE=image/jpeg:https://stouffvilleuc.ca/wp-content/uploads/2023/02/qtq80-DuzeJj.jpeg
END:VEVENT
BEGIN:VEVENT
DTSTART;TZID=America/Toronto:20250630T130000
DTEND;TZID=America/Toronto:20250630T150000
DTSTAMP:20260422T193210
CREATED:20251113T180528Z
LAST-MODIFIED:20251113T180528Z
UID:33737-1751288400-1751295600@stouffvilleuc.ca
SUMMARY:Quilters
DESCRIPTION:Quilters are meeting in the Davis Room on Monday’s at 1pm. Quilter’s Quilt Shop: http://www.stouffvilleuc.ca/quilters-quilt-shop/ to see the many beautiful handmade quilts of all sizes\, wall hangings and quilted articles available to purchase.\nQuilter’s Quilt Shop: http://www.stouffvilleuc.ca/quilters-quilt-shop/ to see the many beautiful handmade quilts of all sizes\, wall hangings and quilted articles available to purchase.
URL:https://stouffvilleuc.ca/event/quilters-140/
CATEGORIES:Adult Group
ATTACH;FMTTYPE=image/jpeg:https://stouffvilleuc.ca/wp-content/uploads/2023/02/qtq80-DuzeJj.jpeg
END:VEVENT
END:VCALENDAR