BEGIN:VCALENDAR
VERSION:2.0
PRODID:-//Stouffville United Church - ECPv6.15.20//NONSGML v1.0//EN
CALSCALE:GREGORIAN
METHOD:PUBLISH
X-WR-CALNAME:Stouffville United Church
X-ORIGINAL-URL:https://stouffvilleuc.ca
X-WR-CALDESC:Events for Stouffville United Church
REFRESH-INTERVAL;VALUE=DURATION:PT1H
X-Robots-Tag:noindex
X-PUBLISHED-TTL:PT1H
BEGIN:VTIMEZONE
TZID:America/Toronto
BEGIN:DAYLIGHT
TZOFFSETFROM:-0500
TZOFFSETTO:-0400
TZNAME:EDT
DTSTART:20220313T070000
END:DAYLIGHT
BEGIN:STANDARD
TZOFFSETFROM:-0400
TZOFFSETTO:-0500
TZNAME:EST
DTSTART:20221106T060000
END:STANDARD
BEGIN:DAYLIGHT
TZOFFSETFROM:-0500
TZOFFSETTO:-0400
TZNAME:EDT
DTSTART:20230312T070000
END:DAYLIGHT
BEGIN:STANDARD
TZOFFSETFROM:-0400
TZOFFSETTO:-0500
TZNAME:EST
DTSTART:20231105T060000
END:STANDARD
BEGIN:DAYLIGHT
TZOFFSETFROM:-0500
TZOFFSETTO:-0400
TZNAME:EDT
DTSTART:20240310T070000
END:DAYLIGHT
BEGIN:STANDARD
TZOFFSETFROM:-0400
TZOFFSETTO:-0500
TZNAME:EST
DTSTART:20241103T060000
END:STANDARD
END:VTIMEZONE
BEGIN:VEVENT
DTSTART;TZID=America/Toronto:20230703T130000
DTEND;TZID=America/Toronto:20230703T150000
DTSTAMP:20260424T120643
CREATED:20230104T063359Z
LAST-MODIFIED:20230204T021518Z
UID:20908-1688389200-1688396400@stouffvilleuc.ca
SUMMARY:Quilters
DESCRIPTION:Quilters are meeting in the Davis Room on  Monday’s at 1pm.\n\n\n\n \n\n\n\nQuilter’s Quilt Shop: http://www.stouffvilleuc.ca/quilters-quilt-shop/ to see the many beautiful handmade quilts of all sizes\, wall hangings and quilted articles available to purchase.
URL:https://stouffvilleuc.ca/event/quilters-63/
LOCATION:Stouffville United Church – Davis Room (upstairs)\, 34 Church Street N.\, Stouffville\, Ontario\, L4A 1E3\, Canada
CATEGORIES:Adult Group
ATTACH;FMTTYPE=image/jpeg:https://stouffvilleuc.ca/wp-content/uploads/2023/02/qtq80-DuzeJj.jpeg
END:VEVENT
BEGIN:VEVENT
DTSTART;TZID=America/Toronto:20230710T130000
DTEND;TZID=America/Toronto:20230710T150000
DTSTAMP:20260424T120643
CREATED:20230104T063400Z
LAST-MODIFIED:20230204T021414Z
UID:20909-1688994000-1689001200@stouffvilleuc.ca
SUMMARY:Quilters
DESCRIPTION:Quilters are meeting in the Davis Room on  Monday’s at 1pm.\n\n\n\n \n\n\n\nQuilter’s Quilt Shop: http://www.stouffvilleuc.ca/quilters-quilt-shop/ to see the many beautiful handmade quilts of all sizes\, wall hangings and quilted articles available to purchase.
URL:https://stouffvilleuc.ca/event/quilters-64/
LOCATION:Stouffville United Church – Davis Room (upstairs)\, 34 Church Street N.\, Stouffville\, Ontario\, L4A 1E3\, Canada
CATEGORIES:Adult Group
ATTACH;FMTTYPE=image/jpeg:https://stouffvilleuc.ca/wp-content/uploads/2023/02/qtq80-DuzeJj.jpeg
END:VEVENT
BEGIN:VEVENT
DTSTART;TZID=America/Toronto:20230717T130000
DTEND;TZID=America/Toronto:20230717T150000
DTSTAMP:20260424T120643
CREATED:20230104T063401Z
LAST-MODIFIED:20230204T021214Z
UID:20910-1689598800-1689606000@stouffvilleuc.ca
SUMMARY:Quilters
DESCRIPTION:Quilters are meeting in the Davis Room on  Monday’s at 1pm.\n\n\n\n \n\n\n\nQuilter’s Quilt Shop: http://www.stouffvilleuc.ca/quilters-quilt-shop/ to see the many beautiful handmade quilts of all sizes\, wall hangings and quilted articles available to purchase.
URL:https://stouffvilleuc.ca/event/quilters-65/
CATEGORIES:Adult Group
ATTACH;FMTTYPE=image/jpeg:https://stouffvilleuc.ca/wp-content/uploads/2023/02/qtq80-DuzeJj.jpeg
END:VEVENT
BEGIN:VEVENT
DTSTART;TZID=America/Toronto:20230724T130000
DTEND;TZID=America/Toronto:20230724T150000
DTSTAMP:20260424T120643
CREATED:20230104T063402Z
LAST-MODIFIED:20230204T022016Z
UID:20911-1690203600-1690210800@stouffvilleuc.ca
SUMMARY:Quilters
DESCRIPTION:Quilters are meeting in the Davis Room on  Monday’s at 1pm.\n\n\n\n \n\n\n\nQuilter’s Quilt Shop: http://www.stouffvilleuc.ca/quilters-quilt-shop/ to see the many beautiful handmade quilts of all sizes\, wall hangings and quilted articles available to purchase.
URL:https://stouffvilleuc.ca/event/quilters-66/
CATEGORIES:Adult Group
ATTACH;FMTTYPE=image/jpeg:https://stouffvilleuc.ca/wp-content/uploads/2023/02/qtq80-DuzeJj.jpeg
END:VEVENT
END:VCALENDAR