BEGIN:VCALENDAR
VERSION:2.0
PRODID:-//Stouffville United Church - ECPv6.15.20//NONSGML v1.0//EN
CALSCALE:GREGORIAN
METHOD:PUBLISH
X-WR-CALNAME:Stouffville United Church
X-ORIGINAL-URL:https://stouffvilleuc.ca
X-WR-CALDESC:Events for Stouffville United Church
REFRESH-INTERVAL;VALUE=DURATION:PT1H
X-Robots-Tag:noindex
X-PUBLISHED-TTL:PT1H
BEGIN:VTIMEZONE
TZID:America/Toronto
BEGIN:DAYLIGHT
TZOFFSETFROM:-0500
TZOFFSETTO:-0400
TZNAME:EDT
DTSTART:20220313T070000
END:DAYLIGHT
BEGIN:STANDARD
TZOFFSETFROM:-0400
TZOFFSETTO:-0500
TZNAME:EST
DTSTART:20221106T060000
END:STANDARD
BEGIN:DAYLIGHT
TZOFFSETFROM:-0500
TZOFFSETTO:-0400
TZNAME:EDT
DTSTART:20230312T070000
END:DAYLIGHT
BEGIN:STANDARD
TZOFFSETFROM:-0400
TZOFFSETTO:-0500
TZNAME:EST
DTSTART:20231105T060000
END:STANDARD
BEGIN:DAYLIGHT
TZOFFSETFROM:-0500
TZOFFSETTO:-0400
TZNAME:EDT
DTSTART:20240310T070000
END:DAYLIGHT
BEGIN:STANDARD
TZOFFSETFROM:-0400
TZOFFSETTO:-0500
TZNAME:EST
DTSTART:20241103T060000
END:STANDARD
END:VTIMEZONE
BEGIN:VEVENT
DTSTART;TZID=America/Toronto:20230206T130000
DTEND;TZID=America/Toronto:20230206T150000
DTSTAMP:20260425T001643
CREATED:20230104T061805Z
LAST-MODIFIED:20230204T033003Z
UID:20879-1675688400-1675695600@stouffvilleuc.ca
SUMMARY:Quilters
DESCRIPTION:Quilters are meeting in the Davis Room on  Monday’s at 1pm.\n\n\n\n \n\n\n\nQuilter’s Quilt Shop: http://www.stouffvilleuc.ca/quilters-quilt-shop/ to see the many beautiful handmade quilts of all sizes\, wall hangings and quilted articles available to purchase.
URL:https://stouffvilleuc.ca/event/quilters-42/
LOCATION:Stouffville United Church – Davis Room (upstairs)\, 34 Church Street N.\, Stouffville\, Ontario\, L4A 1E3\, Canada
CATEGORIES:Adult Group
ATTACH;FMTTYPE=image/jpeg:https://stouffvilleuc.ca/wp-content/uploads/2023/02/qtq80-DuzeJj.jpeg
END:VEVENT
BEGIN:VEVENT
DTSTART;TZID=America/Toronto:20230213T130000
DTEND;TZID=America/Toronto:20230213T150000
DTSTAMP:20260425T001643
CREATED:20230104T061812Z
LAST-MODIFIED:20230204T032854Z
UID:20880-1676293200-1676300400@stouffvilleuc.ca
SUMMARY:Quilters
DESCRIPTION:Quilters are meeting in the Davis Room on  Monday’s at 1pm.\n\n\n\n \n\n\n\nQuilter’s Quilt Shop: http://www.stouffvilleuc.ca/quilters-quilt-shop/ to see the many beautiful handmade quilts of all sizes\, wall hangings and quilted articles available to purchase.
URL:https://stouffvilleuc.ca/event/quilters-43/
LOCATION:Stouffville United Church – Davis Room (upstairs)\, 34 Church Street N.\, Stouffville\, Ontario\, L4A 1E3\, Canada
CATEGORIES:Adult Group
ATTACH;FMTTYPE=image/jpeg:https://stouffvilleuc.ca/wp-content/uploads/2023/02/qtq80-DuzeJj.jpeg
END:VEVENT
BEGIN:VEVENT
DTSTART;TZID=America/Toronto:20230220T130000
DTEND;TZID=America/Toronto:20230220T150000
DTSTAMP:20260425T001643
CREATED:20230104T061813Z
LAST-MODIFIED:20230204T032559Z
UID:20881-1676898000-1676905200@stouffvilleuc.ca
SUMMARY:Quilters
DESCRIPTION:Quilters are meeting in the Davis Room on  Monday’s at 1pm.\n\n\n\n \n\n\n\nQuilter’s Quilt Shop: http://www.stouffvilleuc.ca/quilters-quilt-shop/ to see the many beautiful handmade quilts of all sizes\, wall hangings and quilted articles available to purchase.
URL:https://stouffvilleuc.ca/event/quilters-44/
LOCATION:Stouffville United Church – Davis Room (upstairs)\, 34 Church Street N.\, Stouffville\, Ontario\, L4A 1E3\, Canada
CATEGORIES:Adult Group
ATTACH;FMTTYPE=image/jpeg:https://stouffvilleuc.ca/wp-content/uploads/2023/02/qtq80-DuzeJj.jpeg
END:VEVENT
BEGIN:VEVENT
DTSTART;TZID=America/Toronto:20230227T130000
DTEND;TZID=America/Toronto:20230227T150000
DTSTAMP:20260425T001643
CREATED:20230104T061813Z
LAST-MODIFIED:20230204T032010Z
UID:20882-1677502800-1677510000@stouffvilleuc.ca
SUMMARY:Quilters
DESCRIPTION:Quilters are meeting in the Davis Room on  Monday’s at 1pm.\n\n\n\n \n\n\n\nQuilter’s Quilt Shop: http://www.stouffvilleuc.ca/quilters-quilt-shop/ to see the many beautiful handmade quilts of all sizes\, wall hangings and quilted articles available to purchase.
URL:https://stouffvilleuc.ca/event/quilters-45/
LOCATION:Stouffville United Church – Davis Room (upstairs)\, 34 Church Street N.\, Stouffville\, Ontario\, L4A 1E3\, Canada
CATEGORIES:Adult Group
ATTACH;FMTTYPE=image/jpeg:https://stouffvilleuc.ca/wp-content/uploads/2023/02/qtq80-DuzeJj.jpeg
END:VEVENT
END:VCALENDAR