BEGIN:VCALENDAR
VERSION:2.0
PRODID:-//Stouffville United Church - ECPv6.15.20//NONSGML v1.0//EN
CALSCALE:GREGORIAN
METHOD:PUBLISH
X-WR-CALNAME:Stouffville United Church
X-ORIGINAL-URL:https://stouffvilleuc.ca
X-WR-CALDESC:Events for Stouffville United Church
REFRESH-INTERVAL;VALUE=DURATION:PT1H
X-Robots-Tag:noindex
X-PUBLISHED-TTL:PT1H
BEGIN:VTIMEZONE
TZID:America/Toronto
BEGIN:DAYLIGHT
TZOFFSETFROM:-0500
TZOFFSETTO:-0400
TZNAME:EDT
DTSTART:20240310T070000
END:DAYLIGHT
BEGIN:STANDARD
TZOFFSETFROM:-0400
TZOFFSETTO:-0500
TZNAME:EST
DTSTART:20241103T060000
END:STANDARD
BEGIN:DAYLIGHT
TZOFFSETFROM:-0500
TZOFFSETTO:-0400
TZNAME:EDT
DTSTART:20250309T070000
END:DAYLIGHT
BEGIN:STANDARD
TZOFFSETFROM:-0400
TZOFFSETTO:-0500
TZNAME:EST
DTSTART:20251102T060000
END:STANDARD
BEGIN:DAYLIGHT
TZOFFSETFROM:-0500
TZOFFSETTO:-0400
TZNAME:EDT
DTSTART:20260308T070000
END:DAYLIGHT
BEGIN:STANDARD
TZOFFSETFROM:-0400
TZOFFSETTO:-0500
TZNAME:EST
DTSTART:20261101T060000
END:STANDARD
END:VTIMEZONE
BEGIN:VEVENT
DTSTART;TZID=America/Toronto:20250213T173000
DTEND;TZID=America/Toronto:20250213T183000
DTSTAMP:20260423T063209
CREATED:20241121T060205Z
LAST-MODIFIED:20241121T060205Z
UID:29309-1739467800-1739471400@stouffvilleuc.ca
SUMMARY:Youth Music Group
DESCRIPTION:Discover and develop your musical talent in a welcoming and supportive environment! Join our free music program featuring both sacred and secular music. Work with our music director\, sing\, play guitar or piano\, or bring your own instrument. Open to ages 16–18.
URL:https://stouffvilleuc.ca/event/youth-music-group-12/
LOCATION:Stouffville United Church\, 34 Church Street North\, Stouffville\, Ontario\, L4A 1E3\, Canada
CATEGORIES:Youth
END:VEVENT
END:VCALENDAR