BEGIN:VCALENDAR
VERSION:2.0
PRODID:-//Stouffville United Church - ECPv6.15.20//NONSGML v1.0//EN
CALSCALE:GREGORIAN
METHOD:PUBLISH
X-WR-CALNAME:Stouffville United Church
X-ORIGINAL-URL:https://stouffvilleuc.ca
X-WR-CALDESC:Events for Stouffville United Church
REFRESH-INTERVAL;VALUE=DURATION:PT1H
X-Robots-Tag:noindex
X-PUBLISHED-TTL:PT1H
BEGIN:VTIMEZONE
TZID:America/Toronto
BEGIN:DAYLIGHT
TZOFFSETFROM:-0500
TZOFFSETTO:-0400
TZNAME:EDT
DTSTART:20230312T070000
END:DAYLIGHT
BEGIN:STANDARD
TZOFFSETFROM:-0400
TZOFFSETTO:-0500
TZNAME:EST
DTSTART:20231105T060000
END:STANDARD
BEGIN:DAYLIGHT
TZOFFSETFROM:-0500
TZOFFSETTO:-0400
TZNAME:EDT
DTSTART:20240310T070000
END:DAYLIGHT
BEGIN:STANDARD
TZOFFSETFROM:-0400
TZOFFSETTO:-0500
TZNAME:EST
DTSTART:20241103T060000
END:STANDARD
BEGIN:DAYLIGHT
TZOFFSETFROM:-0500
TZOFFSETTO:-0400
TZNAME:EDT
DTSTART:20250309T070000
END:DAYLIGHT
BEGIN:STANDARD
TZOFFSETFROM:-0400
TZOFFSETTO:-0500
TZNAME:EST
DTSTART:20251102T060000
END:STANDARD
END:VTIMEZONE
BEGIN:VEVENT
DTSTART;TZID=America/Toronto:20240126T173000
DTEND;TZID=America/Toronto:20240126T173000
DTSTAMP:20260424T223712
CREATED:20231222T062905Z
LAST-MODIFIED:20240114T070252Z
UID:25277-1706290200-1706290200@stouffvilleuc.ca
SUMMARY:Messy Church
DESCRIPTION:MESSY CHURCH IS FOR PEOPLE OF ALL AGES TO SHARE FUN THROUGH CRAFTS AND GAMES\, FOOD\, FRIENDSHIP AND FAITH.WE HAVE RETURNED TO IN PERSON MESSY CHURCH. ALL ARE WELCOME! \n\n\n\nTHIS MONTH’S THEME: Caring For God’s CreationGod gave us the responsibility of looking after this world and our neighbours – to act with love towards our home. We will be having fun with our recycling and sharing ideas of how each of us can make an impact on our world. \n\n\n\nWe have fun doing 4-5 crafts or activities based on the theme\, share a meal together and explore the theme in our celebration story and songs.To attend Messy Church in person at 5:30pm for a meal together at 34 Church Street N. Stouffville. Please register each attendee by clicking above.Registration preferred by Wednesday\, January 24th …Drop ins accepted. \n\n\n\nPlease note: Messy Church for January was moved to the 26th due to a winter storm.  We are inviting all that are interested to sign up and come check out the fun. \n\n\n\n\n\n\n\nAn Adult Must Be Present With The Children Please. Messy Church is free\, donations at the time of pick up to cover the cost of food and craft materials are always appreciated.If you would like to join our Messy Church emailing list\, please contact Nikki at MessyChurch@stouffvilleuc.ca
URL:https://stouffvilleuc.ca/event/messy-church-january-2024/
LOCATION:Stouffville United Church – Auditorium\, 34 Church Street N\, Stouffville\, Ontario\, L4A 1E3\, Canada
CATEGORIES:Christian Development
ORGANIZER;CN="Messy Church Team":MAILTO:messychurch@stouffvilleuc.ca
END:VEVENT
END:VCALENDAR