BEGIN:VCALENDAR
VERSION:2.0
PRODID:-//Stouffville United Church - ECPv6.15.20//NONSGML v1.0//EN
CALSCALE:GREGORIAN
METHOD:PUBLISH
X-WR-CALNAME:Stouffville United Church
X-ORIGINAL-URL:https://stouffvilleuc.ca
X-WR-CALDESC:Events for Stouffville United Church
REFRESH-INTERVAL;VALUE=DURATION:PT1H
X-Robots-Tag:noindex
X-PUBLISHED-TTL:PT1H
BEGIN:VTIMEZONE
TZID:America/Toronto
BEGIN:DAYLIGHT
TZOFFSETFROM:-0500
TZOFFSETTO:-0400
TZNAME:EDT
DTSTART:20240310T070000
END:DAYLIGHT
BEGIN:STANDARD
TZOFFSETFROM:-0400
TZOFFSETTO:-0500
TZNAME:EST
DTSTART:20241103T060000
END:STANDARD
BEGIN:DAYLIGHT
TZOFFSETFROM:-0500
TZOFFSETTO:-0400
TZNAME:EDT
DTSTART:20250309T070000
END:DAYLIGHT
BEGIN:STANDARD
TZOFFSETFROM:-0400
TZOFFSETTO:-0500
TZNAME:EST
DTSTART:20251102T060000
END:STANDARD
BEGIN:DAYLIGHT
TZOFFSETFROM:-0500
TZOFFSETTO:-0400
TZNAME:EDT
DTSTART:20260308T070000
END:DAYLIGHT
BEGIN:STANDARD
TZOFFSETFROM:-0400
TZOFFSETTO:-0500
TZNAME:EST
DTSTART:20261101T060000
END:STANDARD
END:VTIMEZONE
BEGIN:VEVENT
DTSTART;TZID=America/Toronto:20250614T100000
DTEND;TZID=America/Toronto:20250614T130000
DTSTAMP:20260423T064633
CREATED:20250515T004203Z
LAST-MODIFIED:20250515T004848Z
UID:31379-1749895200-1749906000@stouffvilleuc.ca
SUMMARY:OPEN CUPBOARD COLLECTION Drive Thru
DESCRIPTION:On Saturday\, June 14th\, we are having a OPEN CUPBOARD COLLECTION Drive Thru from 10:00 AM – 1:00 PM at 34 Church Street N\, south entrance. \n\n\n\nOpen Cupboard provides free emergency supplies for homeless and other “at risk” people in Stouffville on a 24/7 basis. Priority items include water\, drinking boxes\, applesauce\, pudding cups\, and prepacked cookies (-preferably no chocolate – it melts)\n\n\n\nIf you are making a donation to Open Cupboard Collection – Make cheque payable to Stouffville United Church and mark “Open Cupboard” in the description. Donations $20 or more will receive a tax receipt.A large grey storage box for Community Drop Off has been placed beside Stouffville United Open Cupboard.   Drop off your milk bags\, pop tabs\, hygiene products\, warm clothing or other items previously collected by the Hub.  We are now collecting pill bottles again for Claremont UC.
URL:https://stouffvilleuc.ca/event/open-cupboard-collection-drive-thru-2/
LOCATION:Stouffville United Church – Drive Thru\, 34 Church Street North\, Stouffville\, Canada\, L4A 1E3\, Ontario\, L4A 1E3
CATEGORIES:Community and World Outreach,Special Event
ATTACH;FMTTYPE=image/jpeg:https://stouffvilleuc.ca/wp-content/uploads/2025/05/Open-Cupboard-Drive-Thru.jpg
ORGANIZER;CN="Stouffville United - Community and World Outreach Committee":MAILTO:jpainter@stouffvilleuc.ca
END:VEVENT
END:VCALENDAR