BEGIN:VCALENDAR
VERSION:2.0
PRODID:-//Stouffville United Church - ECPv6.15.20//NONSGML v1.0//EN
CALSCALE:GREGORIAN
METHOD:PUBLISH
X-WR-CALNAME:Stouffville United Church
X-ORIGINAL-URL:https://stouffvilleuc.ca
X-WR-CALDESC:Events for Stouffville United Church
REFRESH-INTERVAL;VALUE=DURATION:PT1H
X-Robots-Tag:noindex
X-PUBLISHED-TTL:PT1H
BEGIN:VTIMEZONE
TZID:America/Toronto
BEGIN:DAYLIGHT
TZOFFSETFROM:-0500
TZOFFSETTO:-0400
TZNAME:EDT
DTSTART:20220313T070000
END:DAYLIGHT
BEGIN:STANDARD
TZOFFSETFROM:-0400
TZOFFSETTO:-0500
TZNAME:EST
DTSTART:20221106T060000
END:STANDARD
BEGIN:DAYLIGHT
TZOFFSETFROM:-0500
TZOFFSETTO:-0400
TZNAME:EDT
DTSTART:20230312T070000
END:DAYLIGHT
BEGIN:STANDARD
TZOFFSETFROM:-0400
TZOFFSETTO:-0500
TZNAME:EST
DTSTART:20231105T060000
END:STANDARD
BEGIN:DAYLIGHT
TZOFFSETFROM:-0500
TZOFFSETTO:-0400
TZNAME:EDT
DTSTART:20240310T070000
END:DAYLIGHT
BEGIN:STANDARD
TZOFFSETFROM:-0400
TZOFFSETTO:-0500
TZNAME:EST
DTSTART:20241103T060000
END:STANDARD
END:VTIMEZONE
BEGIN:VEVENT
DTSTART;TZID=America/Toronto:20231212T180000
DTEND;TZID=America/Toronto:20231212T180000
DTSTAMP:20260424T075221
CREATED:20231202T033329Z
LAST-MODIFIED:20231202T171718Z
UID:24903-1702404000-1702404000@stouffvilleuc.ca
SUMMARY:Night of the Nativities and Calling of the Carols
DESCRIPTION:A quiet Christmas service for those who carry grief or hurt\n\n\n\n\n\n\n\nNight-of-the-Nativities-and-the-Calling-of-the-CarolsDownload\n\n\n\nhttps://stouffvilleuc.ca/wp-content/uploads/2023/12/Night-of-the-Nativities-and-the-Calling-of-the-Carols.pdf
URL:https://stouffvilleuc.ca/event/night-of-the-nativities-and-calling-of-the-carols/
CATEGORIES:Worship
ATTACH;FMTTYPE=image/jpeg:https://stouffvilleuc.ca/wp-content/uploads/2023/12/Nativities-and-Carols-2023-Email-Header.jpg
END:VEVENT
END:VCALENDAR