BEGIN:VCALENDAR
VERSION:2.0
PRODID:-//Stouffville United Church - ECPv6.15.20//NONSGML v1.0//EN
CALSCALE:GREGORIAN
METHOD:PUBLISH
X-WR-CALNAME:Stouffville United Church
X-ORIGINAL-URL:https://stouffvilleuc.ca
X-WR-CALDESC:Events for Stouffville United Church
REFRESH-INTERVAL;VALUE=DURATION:PT1H
X-Robots-Tag:noindex
X-PUBLISHED-TTL:PT1H
BEGIN:VTIMEZONE
TZID:America/Toronto
BEGIN:DAYLIGHT
TZOFFSETFROM:-0500
TZOFFSETTO:-0400
TZNAME:EDT
DTSTART:20230312T070000
END:DAYLIGHT
BEGIN:STANDARD
TZOFFSETFROM:-0400
TZOFFSETTO:-0500
TZNAME:EST
DTSTART:20231105T060000
END:STANDARD
BEGIN:DAYLIGHT
TZOFFSETFROM:-0500
TZOFFSETTO:-0400
TZNAME:EDT
DTSTART:20240310T070000
END:DAYLIGHT
BEGIN:STANDARD
TZOFFSETFROM:-0400
TZOFFSETTO:-0500
TZNAME:EST
DTSTART:20241103T060000
END:STANDARD
BEGIN:DAYLIGHT
TZOFFSETFROM:-0500
TZOFFSETTO:-0400
TZNAME:EDT
DTSTART:20250309T070000
END:DAYLIGHT
BEGIN:STANDARD
TZOFFSETFROM:-0400
TZOFFSETTO:-0500
TZNAME:EST
DTSTART:20251102T060000
END:STANDARD
END:VTIMEZONE
BEGIN:VEVENT
DTSTART;TZID=America/Toronto:20241129T183000
DTEND;TZID=America/Toronto:20241129T203000
DTSTAMP:20260423T084710
CREATED:20241122T025109Z
LAST-MODIFIED:20241122T025110Z
UID:29339-1732905000-1732912200@stouffvilleuc.ca
SUMMARY:Christmas Open House
DESCRIPTION:Stained Glass Centre For The Performing Arts / Stouffville United Church is decorated for the holiday season. Join us just off Main Street for a wonderful family photo opportunity amongst the decorations\, for refreshments of hot chocolate and Timbits and a peek at our newly renovated venue. We have a new stage area\, state of the art lighting and tremendous sound. We will be showcasing local artists during the evening. Come in from the cold to warm up from the Stouffville Town Lighting Festivities. 
URL:https://stouffvilleuc.ca/event/christmas-open-house/
LOCATION:Stained Glass Centre for the Performing Arts\, 34 Church Street North\, Stouffville\, Ontario\, L4A 1E3\, Canada
CATEGORIES:Family Fun
ATTACH;FMTTYPE=image/jpeg:https://stouffvilleuc.ca/wp-content/uploads/2024/11/Christmas-Open-House-2024-Presentation.jpg
ORGANIZER;CN="Stained Glass Centre For The Performing Arts":MAILTO:office@stainedglasscentre.ca
END:VEVENT
END:VCALENDAR