BEGIN:VCALENDAR
VERSION:2.0
PRODID:-//Stouffville United Church - ECPv6.15.20//NONSGML v1.0//EN
CALSCALE:GREGORIAN
METHOD:PUBLISH
X-WR-CALNAME:Stouffville United Church
X-ORIGINAL-URL:https://stouffvilleuc.ca
X-WR-CALDESC:Events for Stouffville United Church
REFRESH-INTERVAL;VALUE=DURATION:PT1H
X-Robots-Tag:noindex
X-PUBLISHED-TTL:PT1H
BEGIN:VTIMEZONE
TZID:America/Toronto
BEGIN:DAYLIGHT
TZOFFSETFROM:-0500
TZOFFSETTO:-0400
TZNAME:EDT
DTSTART:20220313T070000
END:DAYLIGHT
BEGIN:STANDARD
TZOFFSETFROM:-0400
TZOFFSETTO:-0500
TZNAME:EST
DTSTART:20221106T060000
END:STANDARD
BEGIN:DAYLIGHT
TZOFFSETFROM:-0500
TZOFFSETTO:-0400
TZNAME:EDT
DTSTART:20230312T070000
END:DAYLIGHT
BEGIN:STANDARD
TZOFFSETFROM:-0400
TZOFFSETTO:-0500
TZNAME:EST
DTSTART:20231105T060000
END:STANDARD
BEGIN:DAYLIGHT
TZOFFSETFROM:-0500
TZOFFSETTO:-0400
TZNAME:EDT
DTSTART:20240310T070000
END:DAYLIGHT
BEGIN:STANDARD
TZOFFSETFROM:-0400
TZOFFSETTO:-0500
TZNAME:EST
DTSTART:20241103T060000
END:STANDARD
END:VTIMEZONE
BEGIN:VEVENT
DTSTART;TZID=America/Toronto:20230205T104500
DTEND;TZID=America/Toronto:20230205T113000
DTSTAMP:20260424T231100
CREATED:20230104T060530Z
LAST-MODIFIED:20230204T044504Z
UID:20826-1675593900-1675596600@stouffvilleuc.ca
SUMMARY:Children's Worship
DESCRIPTION:
URL:https://stouffvilleuc.ca/event/childrens-worship-6/
LOCATION:Stouffville United Church – Auditorium\, 34 Church Street N\, Stouffville\, Ontario\, L4A 1E3\, Canada
CATEGORIES:Christian Development
ATTACH;FMTTYPE=image/gif:https://stouffvilleuc.ca/wp-content/uploads/2022/02/Childrens-worship-logo.gif
ORGANIZER;CN="Children's Worship":MAILTO:lharvey@stouffvilleuc.ca
END:VEVENT
END:VCALENDAR