BEGIN:VCALENDAR
VERSION:2.0
PRODID:-//Stouffville United Church - ECPv6.15.20//NONSGML v1.0//EN
CALSCALE:GREGORIAN
METHOD:PUBLISH
X-ORIGINAL-URL:https://stouffvilleuc.ca
X-WR-CALDESC:Events for Stouffville United Church
REFRESH-INTERVAL;VALUE=DURATION:PT1H
X-Robots-Tag:noindex
X-PUBLISHED-TTL:PT1H
BEGIN:VTIMEZONE
TZID:America/Toronto
BEGIN:DAYLIGHT
TZOFFSETFROM:-0500
TZOFFSETTO:-0400
TZNAME:EDT
DTSTART:20230312T070000
END:DAYLIGHT
BEGIN:STANDARD
TZOFFSETFROM:-0400
TZOFFSETTO:-0500
TZNAME:EST
DTSTART:20231105T060000
END:STANDARD
BEGIN:DAYLIGHT
TZOFFSETFROM:-0500
TZOFFSETTO:-0400
TZNAME:EDT
DTSTART:20240310T070000
END:DAYLIGHT
BEGIN:STANDARD
TZOFFSETFROM:-0400
TZOFFSETTO:-0500
TZNAME:EST
DTSTART:20241103T060000
END:STANDARD
BEGIN:DAYLIGHT
TZOFFSETFROM:-0500
TZOFFSETTO:-0400
TZNAME:EDT
DTSTART:20250309T070000
END:DAYLIGHT
BEGIN:STANDARD
TZOFFSETFROM:-0400
TZOFFSETTO:-0500
TZNAME:EST
DTSTART:20251102T060000
END:STANDARD
END:VTIMEZONE
BEGIN:VEVENT
DTSTART;TZID=America/Toronto:20241224T190000
DTEND;TZID=America/Toronto:20241224T190000
DTSTAMP:20260423T074949
CREATED:20241219T073658Z
LAST-MODIFIED:20241219T073659Z
UID:29632-1735066800-1735066800@stouffvilleuc.ca
SUMMARY:Candlelight Christmas Eve Worship Service
DESCRIPTION:Candlelight Christmas Eve Worship Service A Service of Readings and CarolsLead by the Worship Team \nJoin us for our annual candlelight service that features Christmas readings and carols on this holy night to celebrate Christ’s birth. Music by Daniel Mehdizadeh in our beautifully decorated sanctuary.
URL:https://stouffvilleuc.ca/event/candlelight-christmas-eve-worship-service/
ATTACH;FMTTYPE=image/jpeg:https://stouffvilleuc.ca/wp-content/uploads/2024/12/CANDLELIGHT-CHRISTMAS-EVE-SERVICE.jpg
END:VEVENT
END:VCALENDAR