BEGIN:VCALENDAR
VERSION:2.0
PRODID:-//Stouffville United Church - ECPv6.15.20//NONSGML v1.0//EN
CALSCALE:GREGORIAN
METHOD:PUBLISH
X-WR-CALNAME:Stouffville United Church
X-ORIGINAL-URL:https://stouffvilleuc.ca
X-WR-CALDESC:Events for Stouffville United Church
REFRESH-INTERVAL;VALUE=DURATION:PT1H
X-Robots-Tag:noindex
X-PUBLISHED-TTL:PT1H
BEGIN:VTIMEZONE
TZID:America/Toronto
BEGIN:DAYLIGHT
TZOFFSETFROM:-0500
TZOFFSETTO:-0400
TZNAME:EDT
DTSTART:20220313T070000
END:DAYLIGHT
BEGIN:STANDARD
TZOFFSETFROM:-0400
TZOFFSETTO:-0500
TZNAME:EST
DTSTART:20221106T060000
END:STANDARD
BEGIN:DAYLIGHT
TZOFFSETFROM:-0500
TZOFFSETTO:-0400
TZNAME:EDT
DTSTART:20230312T070000
END:DAYLIGHT
BEGIN:STANDARD
TZOFFSETFROM:-0400
TZOFFSETTO:-0500
TZNAME:EST
DTSTART:20231105T060000
END:STANDARD
BEGIN:DAYLIGHT
TZOFFSETFROM:-0500
TZOFFSETTO:-0400
TZNAME:EDT
DTSTART:20240310T070000
END:DAYLIGHT
BEGIN:STANDARD
TZOFFSETFROM:-0400
TZOFFSETTO:-0500
TZNAME:EST
DTSTART:20241103T060000
END:STANDARD
END:VTIMEZONE
BEGIN:VEVENT
DTSTART;TZID=America/Toronto:20231206T180000
DTEND;TZID=America/Toronto:20231206T210000
DTSTAMP:20260424T061148
CREATED:20231026T055107Z
LAST-MODIFIED:20231026T055201Z
UID:24531-1701885600-1701896400@stouffvilleuc.ca
SUMMARY:First Edition Book Club
DESCRIPTION:First Edition Book Club: Wednesday\, December 6th at 6pm is hosted by Heather A for a Christmas Dinner.  The book selection this month is The Watchmaker’s Daughter.  New members are welcome to our monthly gatherings. For information contact Theresa at tcarr@stouffvilleuc.ca.
URL:https://stouffvilleuc.ca/event/first-edition-book-club-25/
CATEGORIES:Adult Group
ATTACH;FMTTYPE=image/jpeg:https://stouffvilleuc.ca/wp-content/uploads/2023/10/qtq80-hcNGmA.jpeg
END:VEVENT
END:VCALENDAR