BEGIN:VCALENDAR
VERSION:2.0
PRODID:-//Stouffville United Church - ECPv6.15.20//NONSGML v1.0//EN
CALSCALE:GREGORIAN
METHOD:PUBLISH
X-WR-CALNAME:Stouffville United Church
X-ORIGINAL-URL:https://stouffvilleuc.ca
X-WR-CALDESC:Events for Stouffville United Church
REFRESH-INTERVAL;VALUE=DURATION:PT1H
X-Robots-Tag:noindex
X-PUBLISHED-TTL:PT1H
BEGIN:VTIMEZONE
TZID:America/Toronto
BEGIN:DAYLIGHT
TZOFFSETFROM:-0500
TZOFFSETTO:-0400
TZNAME:EDT
DTSTART:20190310T070000
END:DAYLIGHT
BEGIN:STANDARD
TZOFFSETFROM:-0400
TZOFFSETTO:-0500
TZNAME:EST
DTSTART:20191103T060000
END:STANDARD
BEGIN:DAYLIGHT
TZOFFSETFROM:-0500
TZOFFSETTO:-0400
TZNAME:EDT
DTSTART:20200308T070000
END:DAYLIGHT
BEGIN:STANDARD
TZOFFSETFROM:-0400
TZOFFSETTO:-0500
TZNAME:EST
DTSTART:20201101T060000
END:STANDARD
BEGIN:DAYLIGHT
TZOFFSETFROM:-0500
TZOFFSETTO:-0400
TZNAME:EDT
DTSTART:20210314T070000
END:DAYLIGHT
BEGIN:STANDARD
TZOFFSETFROM:-0400
TZOFFSETTO:-0500
TZNAME:EST
DTSTART:20211107T060000
END:STANDARD
BEGIN:DAYLIGHT
TZOFFSETFROM:-0500
TZOFFSETTO:-0400
TZNAME:EDT
DTSTART:20220313T070000
END:DAYLIGHT
BEGIN:STANDARD
TZOFFSETFROM:-0400
TZOFFSETTO:-0500
TZNAME:EST
DTSTART:20221106T060000
END:STANDARD
END:VTIMEZONE
BEGIN:VEVENT
DTSTART;TZID=America/Toronto:20210827T183000
DTEND;TZID=America/Toronto:20210827T193000
DTSTAMP:20260422T095233
CREATED:20210731T053844Z
LAST-MODIFIED:20210731T055811Z
UID:12908-1630089000-1630092600@stouffvilleuc.ca
SUMMARY:MESSY CHURCH At Home - ABRAHAM AND SARAH
DESCRIPTION:Messy Church is for people of all ages to share Fun through crafts and games\, Food\, Friendship and Faith. We will be offering Messy Church At Home In A Bag filled with theme related activities and crafts to be picked up prior to the scheduled Zoom. MessyChurchAtHome@stouffvilleuc.ca\n\n\n\n\n\n\n\nJoin Us for MESSY CHURCH on Zoom on Friday\, August  27th at 6:30pm. \n\n\n\n \n\n\n\nA story of how God blessed \n\n\n\nAbraham and Sarah with a child.\n\n\n\nIf you would like a MESSY CHURCH At Home Bag of ready to use resources for your family based on our theme\, please REGISTER at top of this page (www.stouffvilleuc.ca/event/messy-church-at-home-August-2021)\n\n\n\n\n\n \n\n\n\n\n\nWe will contact you with Zoom details and to make arrangement for pick-up of MESSY CHURCH At Home Bags at 34 Church Street North\, Stouffville. There is a limited number of bags\, so please register by Friday\, August 20th.\n\n\n\nAn Adult Must Be Present With The Children Please. Messy Church is free\, donations at the time of pick up to cover the cost of food and craft materials are always appreciated. Debit Square available.For information: MessyChurchAtHome@stouffvilleuc.ca.
URL:https://stouffvilleuc.ca/event/messy-church-at-home-august-2021/
CATEGORIES:Youth
ATTACH;FMTTYPE=image/jpeg:https://stouffvilleuc.ca/wp-content/uploads/2020/09/Screenshot-2020-09-12-014539-e1635833132908.jpg
END:VEVENT
BEGIN:VEVENT
DTSTART;TZID=America/Toronto:20210723T183000
DTEND;TZID=America/Toronto:20210723T193000
DTSTAMP:20260422T095233
CREATED:20210619T203003Z
LAST-MODIFIED:20210619T204619Z
UID:12688-1627065000-1627068600@stouffvilleuc.ca
SUMMARY:MESSY CHURCH At Home - Bible Beaches
DESCRIPTION:Messy Church is for people of all ages to share Fun through crafts and games\, Food\, Friendship and Faith. We will be offering Messy Church At Home In A Bag filled with theme related activities and crafts to be picked up prior to the scheduled Zoom. MessyChurchAtHome@stouffvilleuc.ca\n\n\n\n\n\n\n\nJoin Us for MESSY CHURCH on Zoom on Friday\, July  23rd at 6:30pm. \n\n\n\n \n\n\n\nFocusing on how Jesus enjoyedspending time on the beach\n\n\n\nIf you would like a MESSY CHURCH At Home Bag of ready to use resources for your family based on our theme\, please REGISTER at top of this page (www.stouffvilleuc.ca/event/messy-church-at-home-July-2021)\n\n\n\nUPDATE: We will contact you with Zoom details and to make arrangement for pick-up of MESSY CHURCH At Home Bags at 34 Church Street North\, Stouffville. There is a limited number of bags\, so please register by Friday\, July 16th.\n\n\n\nAn Adult Must Be Present With The Children Please. Messy Church is free\, donations at the time of pick up to cover the cost of food and craft materials are always appreciated. Debit Square available.For information: MessyChurchAtHome@stouffvilleuc.ca.
URL:https://stouffvilleuc.ca/event/messy-church-at-home-july-2021/
CATEGORIES:Youth
END:VEVENT
BEGIN:VEVENT
DTSTART;TZID=America/Toronto:20210618T183000
DTEND;TZID=America/Toronto:20210618T193000
DTSTAMP:20260422T095233
CREATED:20200925T042644Z
LAST-MODIFIED:20210614T193955Z
UID:9306-1624041000-1624044600@stouffvilleuc.ca
SUMMARY:MESSY CHURCH At Home - Coat of Many Colours
DESCRIPTION:Messy Church is for people of all ages to share Fun through crafts and games\, Food\, Friendship and Faith. We will be offering Messy Church At Home In A Bag filled with theme related activities and crafts to be picked up prior to the scheduled Zoom. MessyChurchAtHome@stouffvilleuc.ca\n\n\n\n\n\n\n\nJoin Us for MESSY CHURCH on Zoom on Friday\, June  18th at 6:30pm. \n\n\n\n \n\n\n\nJoseph and his Coat of Many Colours – A story of how Joseph’s coat  symbolized favour and being noble\n\n\n\nIf you would like a MESSY CHURCH At Home Bag of ready to use resources for your family based on our theme\, please REGISTER at top of this page (www.stouffvilleuc.ca/event/messy-church-at-home-June-2021)\n\n\n\nUPDATE: We will contact you with Zoom details and to make arrangement for pick-up of MESSY CHURCH At Home Bags on TUESDAY\, June 15th from 4:00PM to 4:30PM. There are a number of bags still available\, therefore we have extended our signup deadline to 14th of June.\n\n\n\nAn Adult Must Be Present With The Children Please. Messy Church is free\, donations at the time of pick up to cover the cost of food and craft materials are always appreciated.For information: MessyChurchAtHome@stouffvilleuc.ca.
URL:https://stouffvilleuc.ca/event/messy-church-at-home-june-2021/
CATEGORIES:Youth
END:VEVENT
BEGIN:VEVENT
DTSTART;TZID=America/Toronto:20210528T183000
DTEND;TZID=America/Toronto:20210528T193000
DTSTAMP:20260422T095233
CREATED:20200925T042643Z
LAST-MODIFIED:20210517T031408Z
UID:9305-1622226600-1622230200@stouffvilleuc.ca
SUMMARY:MESSY CHURCH At Home - Zootopia
DESCRIPTION:Messy Church is for people of all ages to share Fun through crafts and games\, Food\, Friendship and Faith. We will be offering Messy Church At Home In A Bag filled with theme related activities and crafts to be picked up prior to the scheduled Zoom. MessyChurchAtHome@stouffvilleuc.ca\n\n\n\n\n\n\n\nJoin Us for MESSY CHURCH on Zoom on Friday\, May  28th at 6:30pm. \n\n\n\n \n\n\n\nZOOTOPIA – Overcoming Obstacles (David and Goliath)\n\n\n\nIf you would like a MESSY CHURCH At Home Bag of ready to use resources for your family based on our theme\, please REGISTER at www.stouffvilleuc.ca/event/messy-church-at-home-May-2021\n\n\n\nWe will contact you with Zoom details and to make arrangement for pick-up of MESSY CHURCH At Home Bags on Sunday\, May 23rd from Noon to 12:30 pm. There are limited number of bags available and requests must be in by 21st of May.\n\n\n\n\n\n\n\nAn Adult Must Be Present With The Children Please. Messy Church is free\, donations at the time of pick up to cover the cost of food and craft materials are always appreciated.For information: MessyChurchAtHome@stouffvilleuc.ca.
URL:https://stouffvilleuc.ca/event/messy-church-at-home-may-2021/
LOCATION:On Zoom
CATEGORIES:Youth
END:VEVENT
BEGIN:VEVENT
DTSTART;TZID=America/Toronto:20210423T183000
DTEND;TZID=America/Toronto:20210423T193000
DTSTAMP:20260422T095233
CREATED:20200925T042643Z
LAST-MODIFIED:20210418T042024Z
UID:9304-1619202600-1619206200@stouffvilleuc.ca
SUMMARY:MESSY CHURCH At Home
DESCRIPTION:Messy Church is for people of all ages to share Fun through crafts and games\, Food\, Friendship and Faith. We will be offering Messy Church At Home In A Bag filled with theme related activities and crafts to be picked up prior to the scheduled Zoom. MessyChurchAtHome@stouffvilleuc.ca\n\n\n\n\n\n\n\nJoin Us for MESSY CHURCH on Zoom on Friday\, April  23rd at 6:30pm. \n\n\n\nIf you would like a MESSY CHURCH At Home Bag of ready to use resources for your family based on our theme\, please REGISTER at www.stouffvilleuc.ca/event/messy-church-at-home-April-2021\n\n\n\nWe will contact you with Zoom details and to make arrangement for pick-up of MESSY CHURCH At Home Bags on Sunday\, April 18th from Noon to 1pm. There are limited number of bags available and requests must be in by 16th of April.\n\n\n\n\n\n\n\nAn Adult Must Be Present With The Children Please. Messy Church is free\, donations at the time of pick up to cover the cost of food and craft materials are always appreciated.For information: MessyChurchAtHome@stouffvilleuc.ca.
URL:https://stouffvilleuc.ca/event/messy-church-at-home-april-2021/
CATEGORIES:Youth
END:VEVENT
BEGIN:VEVENT
DTSTART;TZID=America/Toronto:20210326T183000
DTEND;TZID=America/Toronto:20210326T193000
DTSTAMP:20260422T095233
CREATED:20200925T042643Z
LAST-MODIFIED:20210317T014333Z
UID:9303-1616783400-1616787000@stouffvilleuc.ca
SUMMARY:MESSY EASTER At Home
DESCRIPTION:Messy Church is for people of all ages to share Fun through crafts and games\, Food\, Friendship and Faith. We will be offering Messy Church At Home In A Bag filled with theme related activities and crafts to be picked up prior to the scheduled Zoom. MessyChurchAtHome@stouffvilleuc.ca\n\n\n\n Join Us for MESSY CHURCH on Zoom on Friday\, March 26th at 6:30pm. \n\n\n\nWe will share the story of Jesus in his last week and how he loved his friends right to the very end.\n\n\n\nIf you would like a MESSY CHURCH At Home Bag of ready to use resources for your family based on our theme\, please REGISTER at www.stouffvilleuc.ca/event/messy-church-at-home-March-2021\n\n\n\nWe will contact you with Zoom details and to make arrangement for pick-up of MESSY CHURCH At Home Bags on Sunday\, March 21st from Noon to 1pm. There are limited number of bags available and requests must be in by 19th of March.  MESSY CHURCH At Home Bag will be picked up in Stouffville only.\n\n\n\nAn Adult Must Be Present With The Children Please. Messy Church is free\, donations at the time of pick up to cover the cost of food and craft materials are always appreciated.For information: MessyChurchAtHome@stouffvilleuc.ca.
URL:https://stouffvilleuc.ca/event/messy-church-at-home-march-2021/
CATEGORIES:Youth
END:VEVENT
BEGIN:VEVENT
DTSTART;TZID=America/Toronto:20210219T183000
DTEND;TZID=America/Toronto:20210219T193000
DTSTAMP:20260422T095233
CREATED:20200925T042642Z
LAST-MODIFIED:20210216T001707Z
UID:9302-1613759400-1613763000@stouffvilleuc.ca
SUMMARY:MESSY CHURCH At Home - UNFROZEN
DESCRIPTION:Registration is now full!\n\n\n\nMessy Church is for people of all ages to share Fun through crafts and games\, Food\, Friendship and Faith. We will be offering Messy Church At Home In A Bag filled with theme related activities and crafts to be picked up prior to the scheduled Zoom. MessyChurchAtHome@stouffvilleuc.ca\n\n\n\n\n\n\n\nJoin Us for MESSY CHURCH on Zoom on Friday\, February 19th at 6:30pm. \n\n\n\nHowever you are feeling – Jesus knows\, Jesus cares and Jesus hasn’t forgotten you\, because Jesus loves you. Be strong – love your enemies\, don’t be unkind because with Jesus you are not frozen but unfrozen!\n\n\n\nIf you would like a MESSY CHURCH At Home Bag of ready to use resources for your family based on theme\, please REGISTER at www.stouffvilleuc.ca/event/messy-church-at-home-february-2021\n\n\n\n\n\n\n\nWe will contact you with Zoom details and to make arrangement for pick-up of MESSY CHURCH At Home Bags on Sunday\, February 14th from Noon to 1pm. There are limited number of bags available and requests must be in by 12th of February.\n\n\n\nWe will contact you with Zoom details and to make arrangement for pick-up of MESSY UNFROZEN At Home Bags on Sunday\, February 14th from Noon to 12:30 pm.There are limited number of bags available and requests must be in by 12th of February. \n\n\n\nAn Adult Must Be Present With The Children Please.Messy Church is free\, donations at the time of pick up to cover the cost of food and craft materials are always appreciated.For information: MessyChurchAtHome@stouffvilleuc.ca.
URL:https://stouffvilleuc.ca/event/messy-church-at-home-february-2021/
CATEGORIES:Youth
END:VEVENT
BEGIN:VEVENT
DTSTART;TZID=America/Toronto:20210122T183000
DTEND;TZID=America/Toronto:20210122T200000
DTSTAMP:20260422T095233
CREATED:20200925T042642Z
LAST-MODIFIED:20210116T173009Z
UID:9301-1611340200-1611345600@stouffvilleuc.ca
SUMMARY:MESSY CHURCH At Home - MESSY CHRISTINGLE - January 22nd
DESCRIPTION:Messy Church is for people of all ages to share Fun through crafts and games\, Food\, Friendship and Faith. We will be offering Messy Church At Home In A Bag filled with theme related activities and crafts to be picked up prior to the scheduled Zoom. MessyChurchAtHome@stouffvilleuc.ca\n\n\n\n\n\n\n\n Join Us for MESSY CHURCH on Zoom on Friday\, January 22nd at 6:30pm. We will look at how the candle flame of a Christingle can become a flame of happiness and hope that it is passed on to others every single day.\n\n\n\nIf you would like a MESSY CHURCH At Home Bag of ready to use resources for your family based on our Candle Flame theme\, please REGISTER at www.stouffvilleuc.ca/event/messy-church-at-home-january-2021\n\n\n\nWe will contact you with Zoom details and to make arrangement for pick-up of MESSY CHRISTINGLE At Home Bags on Sunday\, January 17th from Noon to 1pm. There are limited number of bags available and requests must be in by 15th of January.\n\n\n\nAn Adult Must Be Present With The Children Please. Messy Church is free\, donations at the time of pick up to cover the cost of food and craft materials are always appreciated.For information: MessyChurchAtHome@stouffvilleuc.ca.
URL:https://stouffvilleuc.ca/event/messy-church-at-home-january-2021/
CATEGORIES:Youth
END:VEVENT
BEGIN:VEVENT
DTSTART;TZID=America/Toronto:20201120T183000
DTEND;TZID=America/Toronto:20201120T193000
DTSTAMP:20260422T095233
CREATED:20200925T042641Z
LAST-MODIFIED:20201106T001820Z
UID:9300-1605897000-1605900600@stouffvilleuc.ca
SUMMARY:MESSY CHRISTMAS At Home 2020
DESCRIPTION:Remembering the love\, joy\, hope and peace of the Christmas season and celebrating the day of Jesus’ birth.\n\n\nMessy Church is for people of all ages to share Fun through crafts and games\, Food\, Friendship and Faith. We will be offering Messy Church At Home In A Bag filled with theme related activities and crafts to be picked up prior to the scheduled Zoom. MessyChurchAtHome@stouffvilleuc.caWe hope to see you again. Please invite your family\, friends and neighbours to come along too. \nIf you would like a MESSY CHURCH At Home Bag of ready to use resources for your family based on our theme\, please REGISTER above   We will contact you with Zoom details and to make arrangement for pick-up of MESSY CHURCH At Home Bags on Sunday\, November 15th from Noon to 1pm. There are limited number of bags available and requests must be in by 13th of November.
URL:https://stouffvilleuc.ca/event/messy-christmas-at-home-2020/
CATEGORIES:Youth
ATTACH;FMTTYPE=image/jpeg:https://stouffvilleuc.ca/wp-content/uploads/2020/09/MC-Slide-Messy-Christmas-2020-e1604621807115.jpg
END:VEVENT
BEGIN:VEVENT
DTSTART;TZID=America/Toronto:20201023T183000
DTEND;TZID=America/Toronto:20201023T193000
DTSTAMP:20260422T095233
CREATED:20200925T042641Z
LAST-MODIFIED:20201022T012118Z
UID:9299-1603477800-1603481400@stouffvilleuc.ca
SUMMARY:MESSY CHURCH At Home - Holy Halloween
DESCRIPTION:Holy Halloween : How it feels to know that God gives you a safe place and is with you in the scary places.  Psalm 23\n\n\n\nMessy Church is for people of all ages to share Fun through crafts and games\, Food\, Friendship and Faith. We will be offering Messy Church At Home In A Bag filled with theme related activities and crafts to be picked up Sunday\, October 18th from Noon to 1pm.   MessyChurchAtHome@stouffvilleuc.ca\n\n\n\n\n\nIf you would like a MESSY CHURCH At Home Bag of ready to use resources for your family based on our theme\, please REGISTER above or contact us at MessyChurchAtHome@stouffvilleuc.ca with your name and address and how many bags you require. We will contact you with Zoom details and to make arrangement for pick-up of MESSY CHURCH At Home Bags on Sunday\, October 18th from Noon to 1pm. There are limited number of bags available and requests must be in by 16th of October.
URL:https://stouffvilleuc.ca/event/messy-church-at-home-holy-halloween/
LOCATION:On Zoom
CATEGORIES:Youth
END:VEVENT
BEGIN:VEVENT
DTSTART;TZID=America/Toronto:20200918T183000
DTEND;TZID=America/Toronto:20200918T193000
DTSTAMP:20260422T095233
CREATED:20200925T042641Z
LAST-MODIFIED:20200926T180824Z
UID:9298-1600453800-1600457400@stouffvilleuc.ca
SUMMARY:MESSY CHURCH At Home
DESCRIPTION:Messy Church is for people of all ages to share Fun through crafts and games\, Food\, Friendship and Faith. https://stouffvilleuc.ca/messy-church/messy-church-at-home-saint-francis-september-18-2020/
URL:https://stouffvilleuc.ca/event/messy-church-at-home-20/
CATEGORIES:Youth
END:VEVENT
BEGIN:VEVENT
DTSTART;TZID=America/Toronto:20200831T000000
DTEND;TZID=America/Toronto:20200831T235959
DTSTAMP:20260422T095233
CREATED:20200926T180822Z
LAST-MODIFIED:20200926T180822Z
UID:9569-1598832000-1598918399@stouffvilleuc.ca
SUMMARY:MESSY CHURCH At Home
DESCRIPTION:Messy Church is for people of all ages to share Fun through crafts and games\, Food\, Friendship and Faith.  https://stouffvilleuc.ca/worship-at-home/messy-church-at-home-gods-promise-august-31-2020/
URL:https://stouffvilleuc.ca/event/messy-church-at-home-66/
CATEGORIES:Youth
END:VEVENT
BEGIN:VEVENT
DTSTART;TZID=America/Toronto:20200817T000000
DTEND;TZID=America/Toronto:20200817T235959
DTSTAMP:20260422T095233
CREATED:20200925T042640Z
LAST-MODIFIED:20200925T042640Z
UID:9296-1597622400-1597708799@stouffvilleuc.ca
SUMMARY:MESSY CHURCH At Home
DESCRIPTION:Messy Church is for people of all ages to share Fun through crafts and games\, Food\, Friendship and Faith.  https://stouffvilleuc.ca/worship-at-home/messy-church-at-home-being-thankful-august-17-2020/
URL:https://stouffvilleuc.ca/event/messy-church-at-home-18/
CATEGORIES:Youth
END:VEVENT
BEGIN:VEVENT
DTSTART;TZID=America/Toronto:20200810T000000
DTEND;TZID=America/Toronto:20200810T235959
DTSTAMP:20260422T095233
CREATED:20200926T180822Z
LAST-MODIFIED:20200926T180822Z
UID:9567-1597017600-1597103999@stouffvilleuc.ca
SUMMARY:MESSY CHURCH At Home
DESCRIPTION:Messy Church is for people of all ages to share Fun through crafts and games\, Food\, Friendship and Faith.  https://stouffvilleuc.ca/worship-at-home/messy-church-at-home-god-vs-water-august-10-2020/
URL:https://stouffvilleuc.ca/event/messy-church-at-home-64/
CATEGORIES:Youth
END:VEVENT
BEGIN:VEVENT
DTSTART;TZID=America/Toronto:20200803T000000
DTEND;TZID=America/Toronto:20200803T235959
DTSTAMP:20260422T095233
CREATED:20200926T180821Z
LAST-MODIFIED:20200926T180821Z
UID:9566-1596412800-1596499199@stouffvilleuc.ca
SUMMARY:MESSY CHURCH At Home
DESCRIPTION:Messy Church is for people of all ages to share Fun through crafts and games\, Food\, Friendship and Faith. https://stouffvilleuc.ca/worship-at-home/messy-church-bible-beaches-august-3-2020/-the-river-may-11/
URL:https://stouffvilleuc.ca/event/messy-church-at-home-63/
CATEGORIES:Youth
END:VEVENT
BEGIN:VEVENT
DTSTART;TZID=America/Toronto:20200727T000000
DTEND;TZID=America/Toronto:20200727T235959
DTSTAMP:20260422T095233
CREATED:20200925T042639Z
LAST-MODIFIED:20200925T042639Z
UID:9293-1595808000-1595894399@stouffvilleuc.ca
SUMMARY:MESSY CHURCH At Home
DESCRIPTION:Messy Church is for people of all ages to share Fun through crafts and games\, Food\, Friendship and Faith.  https://stouffvilleuc.ca/worship-at-home/messy-church-bible-trees-july-27-2020/
URL:https://stouffvilleuc.ca/event/messy-church-at-home-15/
CATEGORIES:Youth
END:VEVENT
BEGIN:VEVENT
DTSTART;TZID=America/Toronto:20200720T000000
DTEND;TZID=America/Toronto:20200720T235959
DTSTAMP:20260422T095233
CREATED:20200926T180820Z
LAST-MODIFIED:20200926T180820Z
UID:9564-1595203200-1595289599@stouffvilleuc.ca
SUMMARY:MESSY CHURCH At Home
DESCRIPTION:Messy Church is for people of all ages to share Fun through crafts and games\, Food\, Friendship and Faith. https://stouffvilleuc.ca/worship-at-home/messy-church-bible-cities-july-20-2020/
URL:https://stouffvilleuc.ca/event/messy-church-at-home-61/
CATEGORIES:Youth
END:VEVENT
BEGIN:VEVENT
DTSTART;TZID=America/Toronto:20200713T000000
DTEND;TZID=America/Toronto:20200713T235959
DTSTAMP:20260422T095233
CREATED:20200926T180820Z
LAST-MODIFIED:20200926T180820Z
UID:9563-1594598400-1594684799@stouffvilleuc.ca
SUMMARY:MESSY CHURCH At Home
DESCRIPTION:Messy Church is for people of all ages to share Fun through crafts and games\, Food\, Friendship and Faith. https://stouffvilleuc.ca/worship-at-home/jonahs-messy-olympics/
URL:https://stouffvilleuc.ca/event/messy-church-at-home-60/
CATEGORIES:Youth
END:VEVENT
BEGIN:VEVENT
DTSTART;TZID=America/Toronto:20200706T000000
DTEND;TZID=America/Toronto:20200706T235959
DTSTAMP:20260422T095233
CREATED:20200926T180819Z
LAST-MODIFIED:20200926T180819Z
UID:9562-1593993600-1594079999@stouffvilleuc.ca
SUMMARY:MESSY CHURCH At Home
DESCRIPTION:Messy Church is for people of all ages to share Fun through crafts and games\, Food\, Friendship and Faith.  https://stouffvilleuc.ca/worship-at-home/messy-church-at-home-messy-messages-july-6/
URL:https://stouffvilleuc.ca/event/messy-church-at-home-59/
CATEGORIES:Youth
END:VEVENT
BEGIN:VEVENT
DTSTART;TZID=America/Toronto:20200629T000000
DTEND;TZID=America/Toronto:20200629T235959
DTSTAMP:20260422T095233
CREATED:20200926T180819Z
LAST-MODIFIED:20200926T180819Z
UID:9561-1593388800-1593475199@stouffvilleuc.ca
SUMMARY:MESSY CHURCH At Home
DESCRIPTION:Messy Church is for people of all ages to share Fun through crafts and games\, Food\, Friendship and Faith.  https://stouffvilleuc.ca/worship-at-home/messy-church-at-home-messy-paul-june-29/
URL:https://stouffvilleuc.ca/event/messy-church-at-home-58/
CATEGORIES:Youth
END:VEVENT
BEGIN:VEVENT
DTSTART;TZID=America/Toronto:20200622T000000
DTEND;TZID=America/Toronto:20200622T235959
DTSTAMP:20260422T095233
CREATED:20200926T180818Z
LAST-MODIFIED:20200926T180818Z
UID:9560-1592784000-1592870399@stouffvilleuc.ca
SUMMARY:MESSY CHURCH At Home
DESCRIPTION:Messy Church is for people of all ages to share Fun through crafts and games\, Food\, Friendship and Faith.  https://stouffvilleuc.ca/worship-at-home/messy-church-at-home-messy-money-june-22/
URL:https://stouffvilleuc.ca/event/messy-church-at-home-57/
CATEGORIES:Youth
END:VEVENT
BEGIN:VEVENT
DTSTART;TZID=America/Toronto:20200615T000000
DTEND;TZID=America/Toronto:20200615T235959
DTSTAMP:20260422T095233
CREATED:20200926T180817Z
LAST-MODIFIED:20200926T180817Z
UID:9559-1592179200-1592265599@stouffvilleuc.ca
SUMMARY:MESSY CHURCH At Home
DESCRIPTION:Messy Church is for people of all ages to share Fun through crafts and games\, Food\, Friendship and Faith.  https://stouffvilleuc.ca/worship-at-home/messy-church-at-home-fathers-day-june-15/
URL:https://stouffvilleuc.ca/event/messy-church-at-home-56/
CATEGORIES:Youth
END:VEVENT
BEGIN:VEVENT
DTSTART;TZID=America/Toronto:20200608T000000
DTEND;TZID=America/Toronto:20200608T235959
DTSTAMP:20260422T095233
CREATED:20200925T042636Z
LAST-MODIFIED:20200925T042636Z
UID:9286-1591574400-1591660799@stouffvilleuc.ca
SUMMARY:MESSY CHURCH At Home
DESCRIPTION:Messy Church is for people of all ages to share Fun through crafts and games\, Food\, Friendship and Faith.  https://stouffvilleuc.ca/worship-at-home/messy-church-at-home-jairus-daughter-june-8/
URL:https://stouffvilleuc.ca/event/messy-church-at-home-8/
CATEGORIES:Youth
END:VEVENT
BEGIN:VEVENT
DTSTART;TZID=America/Toronto:20200601T000000
DTEND;TZID=America/Toronto:20200601T235959
DTSTAMP:20260422T095233
CREATED:20200926T180817Z
LAST-MODIFIED:20200926T180817Z
UID:9557-1590969600-1591055999@stouffvilleuc.ca
SUMMARY:MESSY CHURCH At Home
DESCRIPTION:Messy Church is for people of all ages to share Fun through crafts and games\, Food\, Friendship and Faith.  https://stouffvilleuc.ca/worship-at-home/messy-church-at-home-pentecost-june-1/
URL:https://stouffvilleuc.ca/event/messy-church-at-home-54/
CATEGORIES:Youth
END:VEVENT
BEGIN:VEVENT
DTSTART;TZID=America/Toronto:20200525T000000
DTEND;TZID=America/Toronto:20200525T235959
DTSTAMP:20260422T095233
CREATED:20200926T180816Z
LAST-MODIFIED:20200926T180816Z
UID:9556-1590364800-1590451199@stouffvilleuc.ca
SUMMARY:MESSY CHURCH At Home
DESCRIPTION:Messy Church is for people of all ages to share Fun through crafts and games\, Food\, Friendship and Faith.  https://stouffvilleuc.ca/worship-at-home/messy-church-at-home-ascension/
URL:https://stouffvilleuc.ca/event/messy-church-at-home-53/
CATEGORIES:Youth
END:VEVENT
BEGIN:VEVENT
DTSTART;TZID=America/Toronto:20200518T000000
DTEND;TZID=America/Toronto:20200518T235959
DTSTAMP:20260422T095233
CREATED:20200926T180816Z
LAST-MODIFIED:20200926T180816Z
UID:9555-1589760000-1589846399@stouffvilleuc.ca
SUMMARY:MESSY CHURCH At Home
DESCRIPTION:Messy Church is for people of all ages to share Fun through crafts and games\, Food\, Friendship and Faith.  https://stouffvilleuc.ca/worship-at-home/messy-church-at-home-messy-peace-may-18/.
URL:https://stouffvilleuc.ca/event/messy-church-at-home-52/
CATEGORIES:Youth
END:VEVENT
BEGIN:VEVENT
DTSTART;TZID=America/Toronto:20200511T000000
DTEND;TZID=America/Toronto:20200511T235959
DTSTAMP:20260422T095233
CREATED:20200926T180815Z
LAST-MODIFIED:20200926T180815Z
UID:9554-1589155200-1589241599@stouffvilleuc.ca
SUMMARY:MESSY CHURCH At Home
DESCRIPTION:Messy Church is for people of all ages to share Fun through crafts and games\, Food\, Friendship and Faith.  https://stouffvilleuc.ca/worship-at-home/messy-church-at-home-down-by-the-river-may-11/
URL:https://stouffvilleuc.ca/event/messy-church-at-home-51/
CATEGORIES:Youth
END:VEVENT
BEGIN:VEVENT
DTSTART;TZID=America/Toronto:20200504T000000
DTEND;TZID=America/Toronto:20200504T235959
DTSTAMP:20260422T095233
CREATED:20200925T042634Z
LAST-MODIFIED:20200925T042634Z
UID:9281-1588550400-1588636799@stouffvilleuc.ca
SUMMARY:MESSY CHURCH At Home
DESCRIPTION:Messy Church is for people of all ages to share Fun through crafts and games\, Food\, Friendship and Faith.  https://stouffvilleuc.ca/worship-at-home/messy-church-at-home-picnic-at-the-beach-may-4/
URL:https://stouffvilleuc.ca/event/messy-church-at-home-3/
CATEGORIES:Youth
END:VEVENT
BEGIN:VEVENT
DTSTART;TZID=America/Toronto:20200427T000000
DTEND;TZID=America/Toronto:20200427T235959
DTSTAMP:20260422T095233
CREATED:20200926T180814Z
LAST-MODIFIED:20200926T180814Z
UID:9552-1587945600-1588031999@stouffvilleuc.ca
SUMMARY:MESSY CHURCH At Home
DESCRIPTION:Messy Church is for people of all ages to share Fun through crafts and games\, Food\, Friendship and Faith. https://stouffvilleuc.ca/worship-at-home/messy-church-at-home-messy-tom-april-27/
URL:https://stouffvilleuc.ca/event/messy-church-at-home-49/
CATEGORIES:Youth
END:VEVENT
BEGIN:VEVENT
DTSTART;TZID=America/Toronto:20200420T000000
DTEND;TZID=America/Toronto:20200420T235959
DTSTAMP:20260422T095233
CREATED:20200926T180814Z
LAST-MODIFIED:20200926T180814Z
UID:9551-1587340800-1587427199@stouffvilleuc.ca
SUMMARY:MESSY CHURCH At Home
DESCRIPTION:Messy Church is for people of all ages to share Fun through crafts and games\, Food\, Friendship and Faith.  https://stouffvilleuc.ca/messy-church/messy-church-at-home-emmaus-road/
URL:https://stouffvilleuc.ca/event/messy-church-at-home-48/
CATEGORIES:Youth
END:VEVENT
END:VCALENDAR