BEGIN:VCALENDAR
VERSION:2.0
PRODID:-//Stouffville United Church - ECPv6.15.20//NONSGML v1.0//EN
CALSCALE:GREGORIAN
METHOD:PUBLISH
X-ORIGINAL-URL:https://stouffvilleuc.ca
X-WR-CALDESC:Events for Stouffville United Church
REFRESH-INTERVAL;VALUE=DURATION:PT1H
X-Robots-Tag:noindex
X-PUBLISHED-TTL:PT1H
BEGIN:VTIMEZONE
TZID:America/Toronto
BEGIN:DAYLIGHT
TZOFFSETFROM:-0500
TZOFFSETTO:-0400
TZNAME:EDT
DTSTART:20220313T070000
END:DAYLIGHT
BEGIN:STANDARD
TZOFFSETFROM:-0400
TZOFFSETTO:-0500
TZNAME:EST
DTSTART:20221106T060000
END:STANDARD
BEGIN:DAYLIGHT
TZOFFSETFROM:-0500
TZOFFSETTO:-0400
TZNAME:EDT
DTSTART:20230312T070000
END:DAYLIGHT
BEGIN:STANDARD
TZOFFSETFROM:-0400
TZOFFSETTO:-0500
TZNAME:EST
DTSTART:20231105T060000
END:STANDARD
BEGIN:DAYLIGHT
TZOFFSETFROM:-0500
TZOFFSETTO:-0400
TZNAME:EDT
DTSTART:20240310T070000
END:DAYLIGHT
BEGIN:STANDARD
TZOFFSETFROM:-0400
TZOFFSETTO:-0500
TZNAME:EST
DTSTART:20241103T060000
END:STANDARD
END:VTIMEZONE
BEGIN:VEVENT
DTSTART;TZID=America/Toronto:20230922T173000
DTEND;TZID=America/Toronto:20230922T193000
DTSTAMP:20260424T121027
CREATED:20230824T233242Z
LAST-MODIFIED:20230917T222627Z
UID:23705-1695403800-1695411000@stouffvilleuc.ca
SUMMARY:Messy Church - September 2023
DESCRIPTION:MESSY CHURCH IS FOR PEOPLE OF ALL AGES TO SHARE FUN THROUGH CRAFTS AND GAMES\, FOOD\, FRIENDSHIP AND FAITH.\n\n\n\n\n\n\n\nAll Welcome!\n\n\n\n\n\n	\n		Rev. John Niles\n	\n					revjohn@stouffvilleuc.ca \n	\n\n\n\n  Theme: A Little Help From Friends\n\n\n\nThe faith of the friends of the paralytic in bringing him to Christ\, was a strong faith; they firmly believed that Jesus Christ both could and would heal him. \n\n\n\nTo attend Messy Church in person at 5:30pm for a meal together\, pre-registration available preferred by Monday\, September 18th…New – Door Prize Winner!\n\n\n\nAn Adult Must Be Present With The Children Please. Messy Church is free\, donations at the time of pick up to cover the cost of food and craft materials are always appreciated. If you would like to join our Messy Church emailing list\, please contact Nikki or Lisa at MessyChurch@stouffvilleuc.ca
URL:https://stouffvilleuc.ca/event/messy-church-september-2023/
LOCATION:Stouffville United Church – Auditorium\, 34 Church Street N\, Stouffville\, Ontario\, L4A 1E3\, Canada
CATEGORIES:Youth
END:VEVENT
END:VCALENDAR