BEGIN:VCALENDAR
VERSION:2.0
PRODID:-//Stouffville United Church - ECPv6.15.20//NONSGML v1.0//EN
CALSCALE:GREGORIAN
METHOD:PUBLISH
X-WR-CALNAME:Stouffville United Church
X-ORIGINAL-URL:https://stouffvilleuc.ca
X-WR-CALDESC:Events for Stouffville United Church
REFRESH-INTERVAL;VALUE=DURATION:PT1H
X-Robots-Tag:noindex
X-PUBLISHED-TTL:PT1H
BEGIN:VTIMEZONE
TZID:America/Toronto
BEGIN:DAYLIGHT
TZOFFSETFROM:-0500
TZOFFSETTO:-0400
TZNAME:EDT
DTSTART:20220313T070000
END:DAYLIGHT
BEGIN:STANDARD
TZOFFSETFROM:-0400
TZOFFSETTO:-0500
TZNAME:EST
DTSTART:20221106T060000
END:STANDARD
BEGIN:DAYLIGHT
TZOFFSETFROM:-0500
TZOFFSETTO:-0400
TZNAME:EDT
DTSTART:20230312T070000
END:DAYLIGHT
BEGIN:STANDARD
TZOFFSETFROM:-0400
TZOFFSETTO:-0500
TZNAME:EST
DTSTART:20231105T060000
END:STANDARD
BEGIN:DAYLIGHT
TZOFFSETFROM:-0500
TZOFFSETTO:-0400
TZNAME:EDT
DTSTART:20240310T070000
END:DAYLIGHT
BEGIN:STANDARD
TZOFFSETFROM:-0400
TZOFFSETTO:-0500
TZNAME:EST
DTSTART:20241103T060000
END:STANDARD
END:VTIMEZONE
BEGIN:VEVENT
DTSTART;TZID=America/Toronto:20230526T173000
DTEND;TZID=America/Toronto:20230526T193000
DTSTAMP:20260424T223644
CREATED:20230503T230640Z
LAST-MODIFIED:20230504T000530Z
UID:22704-1685122200-1685129400@stouffvilleuc.ca
SUMMARY:Messy Church Goes Wild - May 2023
DESCRIPTION:MESSY CHURCH IS FOR PEOPLE OF ALL AGES TO SHARE FUN THROUGH CRAFTS AND GAMES\, FOOD\, FRIENDSHIP AND FAITH. \n\n\n\n\n\n\n\n\n\nMessy Churches Goes Wild is An Adventure where we meets God outdoors.All Welcome!\n\n\n\n  Theme: Planting Flowers and Other Seeds given to us by God.\n\n\n\nMessy Church Goes Wild is the movement within Messy Church which aims to encourage Messy Churches to meet God outdoors\, love the natural world\, experience a sense of awe and wonder there and to be more eco-aware in all we do\, both inside and out\, as gathered and dispersed church\, for the good of the planet. \n\n\n\n \n\n\n\nBring Your Own Lawn Chair – Rain or ShineAddress Shared Once Registered\n\n\n\n \n\n\n\nTo attend Messy Church in person at 5:30pm for a meal together.Please register each attendee by clicking above. Registration preferred by Monday\, May 22nd…New – Door Prize Winner!\n\n\n\nAn Adult Must Be Present With The Children Please. Messy Church is free\, donations at the time of pick up to cover the cost of food and craft materials are always appreciated. If you would like to join our Messy Church emailing list\, please contact Nikki or Lisa at MessyChurch@stouffvilleuc.ca
URL:https://stouffvilleuc.ca/event/messy-church-may-2023/
LOCATION:Ontario
CATEGORIES:Youth
END:VEVENT
END:VCALENDAR