BEGIN:VCALENDAR
VERSION:2.0
PRODID:-//Stouffville United Church - ECPv6.15.20//NONSGML v1.0//EN
CALSCALE:GREGORIAN
METHOD:PUBLISH
X-WR-CALNAME:Stouffville United Church
X-ORIGINAL-URL:https://stouffvilleuc.ca
X-WR-CALDESC:Events for Stouffville United Church
REFRESH-INTERVAL;VALUE=DURATION:PT1H
X-Robots-Tag:noindex
X-PUBLISHED-TTL:PT1H
BEGIN:VTIMEZONE
TZID:America/Toronto
BEGIN:DAYLIGHT
TZOFFSETFROM:-0500
TZOFFSETTO:-0400
TZNAME:EDT
DTSTART:20220313T070000
END:DAYLIGHT
BEGIN:STANDARD
TZOFFSETFROM:-0400
TZOFFSETTO:-0500
TZNAME:EST
DTSTART:20221106T060000
END:STANDARD
BEGIN:DAYLIGHT
TZOFFSETFROM:-0500
TZOFFSETTO:-0400
TZNAME:EDT
DTSTART:20230312T070000
END:DAYLIGHT
BEGIN:STANDARD
TZOFFSETFROM:-0400
TZOFFSETTO:-0500
TZNAME:EST
DTSTART:20231105T060000
END:STANDARD
BEGIN:DAYLIGHT
TZOFFSETFROM:-0500
TZOFFSETTO:-0400
TZNAME:EDT
DTSTART:20240310T070000
END:DAYLIGHT
BEGIN:STANDARD
TZOFFSETFROM:-0400
TZOFFSETTO:-0500
TZNAME:EST
DTSTART:20241103T060000
END:STANDARD
END:VTIMEZONE
BEGIN:VEVENT
DTSTART;TZID=America/Toronto:20230331T173000
DTEND;TZID=America/Toronto:20230331T190000
DTSTAMP:20260425T001805
CREATED:20230308T230539Z
LAST-MODIFIED:20230309T025555Z
UID:22002-1680283800-1680289200@stouffvilleuc.ca
SUMMARY:Messy Church - March 2023
DESCRIPTION:Theme: Messy Easter \n\n\n\n\n\n\n\n\n\nMESSY CHURCH IS FOR PEOPLE OF ALL AGES TO SHARE FUN THROUGH CRAFTS AND GAMES\, FOOD\, FRIENDSHIP AND FAITH. \n\n\n\nWe have returned to in person Messy Church.  All are welcome!\n\n\n\nThis month’s theme is the Easter story and a special Easter Egg Hunt.\n\n\n\nWe have fun doing 2-3 crafts or activities based on the theme\, share a meal together and explore the theme in our celebration story and songs.  \n\n\n\n All welcome to attend Messy Church in person at 5:30pm for a meal together at 34 Church Street N. Stouffville.  Please register each attendee by clicking above. Registration preferred…Drop ins accepted. \n\n\n\n \n\n\n\n\n\nAn Adult Must Be Present With The Children Please. Messy Church is free\, donations at the time of pick up to cover the cost of food and craft materials are always appreciated. If you would like to join our Messy Church emailing list\, please contact Nikki or Lisa at MessyChurch@stouffvilleuc.ca \n\n\n\n\n\nEaster Egg Hunt
URL:https://stouffvilleuc.ca/event/messy-church-march-2023/
LOCATION:Stouffville United Church – Auditorium\, 34 Church Street N\, Stouffville\, Ontario\, L4A 1E3\, Canada
CATEGORIES:Youth
ATTACH;FMTTYPE=image/jpeg:https://stouffvilleuc.ca/wp-content/uploads/2023/03/qtq80-7P9GK1.jpeg
END:VEVENT
END:VCALENDAR