BEGIN:VCALENDAR
VERSION:2.0
PRODID:-//Stouffville United Church - ECPv6.15.20//NONSGML v1.0//EN
CALSCALE:GREGORIAN
METHOD:PUBLISH
X-ORIGINAL-URL:https://stouffvilleuc.ca
X-WR-CALDESC:Events for Stouffville United Church
REFRESH-INTERVAL;VALUE=DURATION:PT1H
X-Robots-Tag:noindex
X-PUBLISHED-TTL:PT1H
BEGIN:VTIMEZONE
TZID:America/Toronto
BEGIN:DAYLIGHT
TZOFFSETFROM:-0500
TZOFFSETTO:-0400
TZNAME:EDT
DTSTART:20220313T070000
END:DAYLIGHT
BEGIN:STANDARD
TZOFFSETFROM:-0400
TZOFFSETTO:-0500
TZNAME:EST
DTSTART:20221106T060000
END:STANDARD
BEGIN:DAYLIGHT
TZOFFSETFROM:-0500
TZOFFSETTO:-0400
TZNAME:EDT
DTSTART:20230312T070000
END:DAYLIGHT
BEGIN:STANDARD
TZOFFSETFROM:-0400
TZOFFSETTO:-0500
TZNAME:EST
DTSTART:20231105T060000
END:STANDARD
BEGIN:DAYLIGHT
TZOFFSETFROM:-0500
TZOFFSETTO:-0400
TZNAME:EDT
DTSTART:20240310T070000
END:DAYLIGHT
BEGIN:STANDARD
TZOFFSETFROM:-0400
TZOFFSETTO:-0500
TZNAME:EST
DTSTART:20241103T060000
END:STANDARD
END:VTIMEZONE
BEGIN:VEVENT
DTSTART;TZID=America/Toronto:20231027T173000
DTEND;TZID=America/Toronto:20231027T193000
DTSTAMP:20260424T090330
CREATED:20231002T174351Z
LAST-MODIFIED:20231006T151755Z
UID:24267-1698427800-1698435000@stouffvilleuc.ca
SUMMARY:Messy Church - October 2023
DESCRIPTION:MESSY CHURCH IS FOR PEOPLE OF ALL AGES TO SHARE FUN THROUGH CRAFTS AND GAMES\, FOOD\, FRIENDSHIP AND FAITH.\n\n\n\n\n\n\n\n\n\n  Theme: Being Thankful\n\n\n\nThis month the story we are looking at is the Ten Lepers from Luke 17.  Ten people were healed by Jesus\, as they ran away and only one thought ‘Hang on! Maybe I should go back and say thank you.’ One of the things we hope we are doing more and more is to say ‘thank you’! \n\n\n\nTo help us to explore the theme of giving thanks\, there are a number of elements we use at Messy Church  Celebration – exploring the theme through a bible story\, prayers and reflection. Creativity – activities and craft. Hospitality – sharing food. We also want Messy Church to be Christ Centered for All Ages.This program is non-denominational and open to all. \n\n\n\nTo attend Messy Church in person at 5:30pm for a meal together\, pre-registration available preferred by Monday\, October 23rd…New – Door Prize Winner!
URL:https://stouffvilleuc.ca/event/messy-church-october-2023/
LOCATION:Stouffville United Church – Auditorium\, 34 Church Street N\, Stouffville\, Ontario\, L4A 1E3\, Canada
CATEGORIES:Youth
ORGANIZER;CN="Messy Church Team":MAILTO:messychurch@stouffvilleuc.ca
END:VEVENT
END:VCALENDAR