BEGIN:VCALENDAR
VERSION:2.0
PRODID:-//Stouffville United Church - ECPv6.15.20//NONSGML v1.0//EN
CALSCALE:GREGORIAN
METHOD:PUBLISH
X-WR-CALNAME:Stouffville United Church
X-ORIGINAL-URL:https://stouffvilleuc.ca
X-WR-CALDESC:Events for Stouffville United Church
REFRESH-INTERVAL;VALUE=DURATION:PT1H
X-Robots-Tag:noindex
X-PUBLISHED-TTL:PT1H
BEGIN:VTIMEZONE
TZID:America/Toronto
BEGIN:DAYLIGHT
TZOFFSETFROM:-0500
TZOFFSETTO:-0400
TZNAME:EDT
DTSTART:20180311T070000
END:DAYLIGHT
BEGIN:STANDARD
TZOFFSETFROM:-0400
TZOFFSETTO:-0500
TZNAME:EST
DTSTART:20181104T060000
END:STANDARD
BEGIN:DAYLIGHT
TZOFFSETFROM:-0500
TZOFFSETTO:-0400
TZNAME:EDT
DTSTART:20190310T070000
END:DAYLIGHT
BEGIN:STANDARD
TZOFFSETFROM:-0400
TZOFFSETTO:-0500
TZNAME:EST
DTSTART:20191103T060000
END:STANDARD
BEGIN:DAYLIGHT
TZOFFSETFROM:-0500
TZOFFSETTO:-0400
TZNAME:EDT
DTSTART:20200308T070000
END:DAYLIGHT
BEGIN:STANDARD
TZOFFSETFROM:-0400
TZOFFSETTO:-0500
TZNAME:EST
DTSTART:20201101T060000
END:STANDARD
BEGIN:DAYLIGHT
TZOFFSETFROM:-0500
TZOFFSETTO:-0400
TZNAME:EDT
DTSTART:20210314T070000
END:DAYLIGHT
BEGIN:STANDARD
TZOFFSETFROM:-0400
TZOFFSETTO:-0500
TZNAME:EST
DTSTART:20211107T060000
END:STANDARD
END:VTIMEZONE
BEGIN:VEVENT
DTSTART;TZID=America/Toronto:20200221T173000
DTEND;TZID=America/Toronto:20200221T193000
DTSTAMP:20260422T153233
CREATED:20190820T224048Z
LAST-MODIFIED:20200202T055033Z
UID:5327-1582306200-1582313400@stouffvilleuc.ca
SUMMARY:MESSY CHURCH-PETS and PEACE
DESCRIPTION:MESSY CHURCH is for people of all ages and all denominations to share Fun through crafts and games\, Food\, Friendship and Faith.    This month we learn about PETS AND PEACE.  Please bring a digital picture of your pet and / or a stuffy of an animal you love.  Children should be accompanied by an adult.   We will be sharing a celebration meal together.   \n\n\n\nFree event – donations welcome to help cover cost of food and craft supplies.  All Welcome!MESSY CHURCH is for people who are interested in exploring Christian spirituality for themselves and their families in a fun way. For Info: communications@stouffvilleuc.ca905-640-1163www.stouffvilleuc.ca/messychurchVolunteer hours available.
URL:https://stouffvilleuc.ca/event/messy-church-pets-and-peace/
LOCATION:Stouffville United Church – Auditorium\, 34 Church Street N\, Stouffville\, Ontario\, L4A 1E3\, Canada
CATEGORIES:Family Fun,Youth
END:VEVENT
BEGIN:VEVENT
DTSTART;TZID=America/Toronto:20191018T173000
DTEND;TZID=America/Toronto:20191018T193000
DTSTAMP:20260422T153233
CREATED:20190820T224044Z
LAST-MODIFIED:20191001T033927Z
UID:5324-1571419800-1571427000@stouffvilleuc.ca
SUMMARY:MESSY CHURCH
DESCRIPTION:MESSY CHURCH is for people of all ages and all denominations to share Fun through crafts and games\, Food\, Friendship and Faith.  MESSY CHURCH is for people who are interested in exploring Christian spirituality for themselves and their families in a fun way.   \n\n\n\nThis month’s theme for MESSY CHURCH: Thankfulness and Harvest.   Be sure to try our MESSY SCIENCE erupting pumpkins activity.  \n\n\n\nChildren should be accompanied by an adult.    \n\n\n\nWe will be sharing a celebration meal together.  Donations welcome.  \n\n\n\nFor info or to volunteer: Nikki at communications@stouffvilleuc.ca or www.stouffvilleuc.ca.
URL:https://stouffvilleuc.ca/event/messy-church-thankfulness/
LOCATION:Stouffville United Church – Auditorium\, 34 Church Street N\, Stouffville\, Ontario\, L4A 1E3\, Canada
CATEGORIES:Children's Worship,Family Fun,Youth
ATTACH;FMTTYPE=image/jpeg:https://stouffvilleuc.ca/wp-content/uploads/2019/08/MC-website-photo-title-1-e1547452572905.jpg
END:VEVENT
BEGIN:VEVENT
DTSTART;TZID=America/Toronto:20190216T193000
DTEND;TZID=America/Toronto:20190216T213000
DTSTAMP:20260422T153233
CREATED:20190202T173634Z
LAST-MODIFIED:20190208T041434Z
UID:2939-1550345400-1550352600@stouffvilleuc.ca
SUMMARY:Valentine Fun at the Spirit Game
DESCRIPTION:Join us with your family for this Valentine Fun at the Spirit Game!
URL:https://stouffvilleuc.ca/event/valentine-fun-at-the-spirit-game/
LOCATION:Stouffville Arena\, 12483 Ninth Line\, Stouffville\, Ontario\, L4A1C2\, Canada
CATEGORIES:Children's Worship,Family Fun,Youth
ATTACH;FMTTYPE=image/gif:https://stouffvilleuc.ca/wp-content/uploads/2019/02/CW-Valentine-Spirit-Game-website-2.gif
END:VEVENT
END:VCALENDAR