BEGIN:VCALENDAR
VERSION:2.0
PRODID:-//Stouffville United Church - ECPv6.15.20//NONSGML v1.0//EN
CALSCALE:GREGORIAN
METHOD:PUBLISH
X-ORIGINAL-URL:https://stouffvilleuc.ca
X-WR-CALDESC:Events for Stouffville United Church
REFRESH-INTERVAL;VALUE=DURATION:PT1H
X-Robots-Tag:noindex
X-PUBLISHED-TTL:PT1H
BEGIN:VTIMEZONE
TZID:America/Toronto
BEGIN:DAYLIGHT
TZOFFSETFROM:-0500
TZOFFSETTO:-0400
TZNAME:EDT
DTSTART:20250309T070000
END:DAYLIGHT
BEGIN:STANDARD
TZOFFSETFROM:-0400
TZOFFSETTO:-0500
TZNAME:EST
DTSTART:20251102T060000
END:STANDARD
BEGIN:DAYLIGHT
TZOFFSETFROM:-0500
TZOFFSETTO:-0400
TZNAME:EDT
DTSTART:20260308T070000
END:DAYLIGHT
BEGIN:STANDARD
TZOFFSETFROM:-0400
TZOFFSETTO:-0500
TZNAME:EST
DTSTART:20261101T060000
END:STANDARD
BEGIN:DAYLIGHT
TZOFFSETFROM:-0500
TZOFFSETTO:-0400
TZNAME:EDT
DTSTART:20270314T070000
END:DAYLIGHT
BEGIN:STANDARD
TZOFFSETFROM:-0400
TZOFFSETTO:-0500
TZNAME:EST
DTSTART:20271107T060000
END:STANDARD
END:VTIMEZONE
BEGIN:VEVENT
DTSTART;TZID=America/Toronto:20260217T170000
DTEND;TZID=America/Toronto:20260217T183000
DTSTAMP:20260422T183224
CREATED:20260215T203408Z
LAST-MODIFIED:20260215T203411Z
UID:34751-1771347600-1771353000@stouffvilleuc.ca
SUMMARY:Shrove Tuesday Pancake Dinner 2026
DESCRIPTION:Please join Stouffville United Church and Rangers Volunteers in the Davis Room and bring your friends. Meal includes pancakes\, sausages\, and fruit plus coffee\, tea and juice. Donations Welcome. Hope to see you there!
URL:https://stouffvilleuc.ca/event/shrove-tuesday-pancake-dinner-2026/
LOCATION:Stouffville United Church – Davis Room (upstairs)\, 34 Church Street N.\, Stouffville\, Ontario\, L4A 1E3\, Canada
CATEGORIES:Family Fun,Special Event
ORGANIZER;CN="Nikki Devereux - Communications":MAILTO:communications@stouffvilleuc.ca
END:VEVENT
END:VCALENDAR