BEGIN:VCALENDAR
VERSION:2.0
PRODID:-//Stouffville United Church - ECPv6.15.20//NONSGML v1.0//EN
CALSCALE:GREGORIAN
METHOD:PUBLISH
X-ORIGINAL-URL:https://stouffvilleuc.ca
X-WR-CALDESC:Events for Stouffville United Church
REFRESH-INTERVAL;VALUE=DURATION:PT1H
X-Robots-Tag:noindex
X-PUBLISHED-TTL:PT1H
BEGIN:VTIMEZONE
TZID:America/Toronto
BEGIN:DAYLIGHT
TZOFFSETFROM:-0500
TZOFFSETTO:-0400
TZNAME:EDT
DTSTART:20240310T070000
END:DAYLIGHT
BEGIN:STANDARD
TZOFFSETFROM:-0400
TZOFFSETTO:-0500
TZNAME:EST
DTSTART:20241103T060000
END:STANDARD
BEGIN:DAYLIGHT
TZOFFSETFROM:-0500
TZOFFSETTO:-0400
TZNAME:EDT
DTSTART:20250309T070000
END:DAYLIGHT
BEGIN:STANDARD
TZOFFSETFROM:-0400
TZOFFSETTO:-0500
TZNAME:EST
DTSTART:20251102T060000
END:STANDARD
BEGIN:DAYLIGHT
TZOFFSETFROM:-0500
TZOFFSETTO:-0400
TZNAME:EDT
DTSTART:20260308T070000
END:DAYLIGHT
BEGIN:STANDARD
TZOFFSETFROM:-0400
TZOFFSETTO:-0500
TZNAME:EST
DTSTART:20261101T060000
END:STANDARD
END:VTIMEZONE
BEGIN:VEVENT
DTSTART;TZID=America/Toronto:20250304T170000
DTEND;TZID=America/Toronto:20250304T183000
DTSTAMP:20260423T141649
CREATED:20240118T053107Z
LAST-MODIFIED:20250226T235018Z
UID:25621-1741107600-1741113000@stouffvilleuc.ca
SUMMARY:PANCAKE SUPPER – SHROVE TUESDAY 2025
DESCRIPTION:Shrove Tuesday\, Pancake Dinner on March 4 from 5pm to 6:30pm. Please join Stouffville United Church and Pathfinder Volunteers in the Davis Room and bring your friends. Meal includes pancakes\, sausages\, and fruit plus coffee\, tea and juice. Donations Welcome. Hope to see you there! Take out available by ordering ahead (by emailing office@stouffvilleuc.ca with number of orders\, time of pick up\, phone number).For information contact Nikki Devereux (communications@stouffvilleuc.ca)
URL:https://stouffvilleuc.ca/event/pancake-supper-shrove-tuesday-2025/
LOCATION:Stouffville United Church – Davis Room (upstairs)\, 34 Church Street N.\, Stouffville\, Ontario\, L4A 1E3\, Canada
CATEGORIES:Family Fun
ATTACH;FMTTYPE=image/jpeg:https://stouffvilleuc.ca/wp-content/uploads/2024/01/qtq80-fPtaa9.jpeg
ORGANIZER;CN="Nikki Devereux - Communications":MAILTO:communications@stouffvilleuc.ca
END:VEVENT
END:VCALENDAR