BEGIN:VCALENDAR
VERSION:2.0
PRODID:-//Stouffville United Church - ECPv6.15.20//NONSGML v1.0//EN
CALSCALE:GREGORIAN
METHOD:PUBLISH
X-WR-CALNAME:Stouffville United Church
X-ORIGINAL-URL:https://stouffvilleuc.ca
X-WR-CALDESC:Events for Stouffville United Church
REFRESH-INTERVAL;VALUE=DURATION:PT1H
X-Robots-Tag:noindex
X-PUBLISHED-TTL:PT1H
BEGIN:VTIMEZONE
TZID:America/Toronto
BEGIN:DAYLIGHT
TZOFFSETFROM:-0500
TZOFFSETTO:-0400
TZNAME:EDT
DTSTART:20230312T070000
END:DAYLIGHT
BEGIN:STANDARD
TZOFFSETFROM:-0400
TZOFFSETTO:-0500
TZNAME:EST
DTSTART:20231105T060000
END:STANDARD
BEGIN:DAYLIGHT
TZOFFSETFROM:-0500
TZOFFSETTO:-0400
TZNAME:EDT
DTSTART:20240310T070000
END:DAYLIGHT
BEGIN:STANDARD
TZOFFSETFROM:-0400
TZOFFSETTO:-0500
TZNAME:EST
DTSTART:20241103T060000
END:STANDARD
BEGIN:DAYLIGHT
TZOFFSETFROM:-0500
TZOFFSETTO:-0400
TZNAME:EDT
DTSTART:20250309T070000
END:DAYLIGHT
BEGIN:STANDARD
TZOFFSETFROM:-0400
TZOFFSETTO:-0500
TZNAME:EST
DTSTART:20251102T060000
END:STANDARD
END:VTIMEZONE
BEGIN:VEVENT
DTSTART;TZID=America/Toronto:20240621T173000
DTEND;TZID=America/Toronto:20240621T173000
DTSTAMP:20260424T061443
CREATED:20240606T064536Z
LAST-MODIFIED:20240613T020614Z
UID:27320-1718991000-1718991000@stouffvilleuc.ca
SUMMARY:Mini Golf and Pizza 2024
DESCRIPTION:PAYPAL NOT CURRENTLY WORKING.  Please Register and Bring Payment to Church or to the event.\n\n\n\n\n\n\n\nSTOUFFVILLE UNITED CONGREGATION AND MESSY CHURCH EVENT ATTIMBER CREEK MINI GOLF \n\n\n\n\n\n\n\n(12772 Ninth Line).  \n\n\n\nALL WELCOME! \n\n\n\nAn Adult Present With The Children Please. \n\n\n\nSign Up for your Mini Golf and Pizza by Monday\, June 17th\n\n\n\n \n\n\n\n\n\nPizza (Pepperoni\, Cheese or Veggie)\, Salad & Drink paid at the eventor cash to Lisa or Nikki prior to event.  \n\n\n\nFor more information: messychurch@stouffvilleuc.ca416-346-8532 \n\n\n\nTICKETS \n\n\n\nAdult – Mini Golf and Pizza           $18.00 \n\n\n\nAdult – Mini Golf Only              $13.00 \n\n\n\nChild – Mini Golf and Pizza           $15.00 \n\n\n\nChild – Mini golf Only               $10.00
URL:https://stouffvilleuc.ca/event/mini-golf-and-pizza-2024/
LOCATION:Ontario
CATEGORIES:Family Fun
END:VEVENT
END:VCALENDAR