BEGIN:VCALENDAR
VERSION:2.0
PRODID:-//Stouffville United Church - ECPv6.15.20//NONSGML v1.0//EN
CALSCALE:GREGORIAN
METHOD:PUBLISH
X-ORIGINAL-URL:https://stouffvilleuc.ca
X-WR-CALDESC:Events for Stouffville United Church
REFRESH-INTERVAL;VALUE=DURATION:PT1H
X-Robots-Tag:noindex
X-PUBLISHED-TTL:PT1H
BEGIN:VTIMEZONE
TZID:America/Toronto
BEGIN:DAYLIGHT
TZOFFSETFROM:-0500
TZOFFSETTO:-0400
TZNAME:EDT
DTSTART:20230312T070000
END:DAYLIGHT
BEGIN:STANDARD
TZOFFSETFROM:-0400
TZOFFSETTO:-0500
TZNAME:EST
DTSTART:20231105T060000
END:STANDARD
BEGIN:DAYLIGHT
TZOFFSETFROM:-0500
TZOFFSETTO:-0400
TZNAME:EDT
DTSTART:20240310T070000
END:DAYLIGHT
BEGIN:STANDARD
TZOFFSETFROM:-0400
TZOFFSETTO:-0500
TZNAME:EST
DTSTART:20241103T060000
END:STANDARD
BEGIN:DAYLIGHT
TZOFFSETFROM:-0500
TZOFFSETTO:-0400
TZNAME:EDT
DTSTART:20250309T070000
END:DAYLIGHT
BEGIN:STANDARD
TZOFFSETFROM:-0400
TZOFFSETTO:-0500
TZNAME:EST
DTSTART:20251102T060000
END:STANDARD
END:VTIMEZONE
BEGIN:VEVENT
DTSTART;TZID=America/Toronto:20240322T173000
DTEND;TZID=America/Toronto:20240322T193000
DTSTAMP:20260424T114044
CREATED:20231222T062905Z
LAST-MODIFIED:20240312T214320Z
UID:25279-1711128600-1711135800@stouffvilleuc.ca
SUMMARY:Messy Easter - March 2024
DESCRIPTION:MESSY CHURCH IS FOR PEOPLE OF ALL AGES TO SHARE FUN THROUGH CRAFTS AND GAMES\, FOOD\, FRIENDSHIP AND FAITH.ALL ARE WELCOME AS WE HAVE FUN EACH MONTH!\n\n\n\nTHIS MONTH’S THEME: MESSY EASTER!\n\n\n\n \n\n\n\nPLEASE JOIN US FOR NEXT MONTH’S MESSY CHURCH ON MARCH 22ND AT 5:30PM AS WE CELEBRATE EASTER.  SIGN UP NOW OPEN.
URL:https://stouffvilleuc.ca/event/messy-church-march-2024/
LOCATION:Stouffville United Church – Auditorium\, 34 Church Street N\, Stouffville\, Ontario\, L4A 1E3\, Canada
CATEGORIES:Family Fun,Youth
ATTACH;FMTTYPE=image/jpeg:https://stouffvilleuc.ca/wp-content/uploads/2023/12/Messy-Church-March-2024-slide.jpg
ORGANIZER;CN="Messy Church Team":MAILTO:messychurch@stouffvilleuc.ca
END:VEVENT
END:VCALENDAR