BEGIN:VCALENDAR
VERSION:2.0
PRODID:-//Stouffville United Church - ECPv6.15.20//NONSGML v1.0//EN
CALSCALE:GREGORIAN
METHOD:PUBLISH
X-ORIGINAL-URL:https://stouffvilleuc.ca
X-WR-CALDESC:Events for Stouffville United Church
REFRESH-INTERVAL;VALUE=DURATION:PT1H
X-Robots-Tag:noindex
X-PUBLISHED-TTL:PT1H
BEGIN:VTIMEZONE
TZID:America/Toronto
BEGIN:DAYLIGHT
TZOFFSETFROM:-0500
TZOFFSETTO:-0400
TZNAME:EDT
DTSTART:20180311T070000
END:DAYLIGHT
BEGIN:STANDARD
TZOFFSETFROM:-0400
TZOFFSETTO:-0500
TZNAME:EST
DTSTART:20181104T060000
END:STANDARD
BEGIN:DAYLIGHT
TZOFFSETFROM:-0500
TZOFFSETTO:-0400
TZNAME:EDT
DTSTART:20190310T070000
END:DAYLIGHT
BEGIN:STANDARD
TZOFFSETFROM:-0400
TZOFFSETTO:-0500
TZNAME:EST
DTSTART:20191103T060000
END:STANDARD
BEGIN:DAYLIGHT
TZOFFSETFROM:-0500
TZOFFSETTO:-0400
TZNAME:EDT
DTSTART:20200308T070000
END:DAYLIGHT
BEGIN:STANDARD
TZOFFSETFROM:-0400
TZOFFSETTO:-0500
TZNAME:EST
DTSTART:20201101T060000
END:STANDARD
END:VTIMEZONE
BEGIN:VEVENT
DTSTART;TZID=America/Toronto:20190625T150000
DTEND;TZID=America/Toronto:20190625T170000
DTSTAMP:20260423T132242
CREATED:20190117T035226Z
LAST-MODIFIED:20190527T192016Z
UID:2280-1561474800-1561482000@stouffvilleuc.ca
SUMMARY:OPEN FORUM - Diversity Series
DESCRIPTION:Generational Diversity \n\n\n\n\n\n\nRegistration Fee\n	Adult $10.00 CAD\n	Student $5.00 CAD
URL:https://stouffvilleuc.ca/event/open-forum-diversity-series-5/
LOCATION:Hummingbird Hub\, 6331 Main Street\, Stouffville\, Ontario\, L4A\, Canada
CATEGORIES:CCFA
ORGANIZER;CN="CCFA":MAILTO:creatingcommunityforall@stouffvilleuc.ca
END:VEVENT
BEGIN:VEVENT
DTSTART;TZID=America/Toronto:20190528T150000
DTEND;TZID=America/Toronto:20190528T170000
DTSTAMP:20260423T132242
CREATED:20190117T035226Z
LAST-MODIFIED:20190422T222606Z
UID:2279-1559055600-1559062800@stouffvilleuc.ca
SUMMARY:OPEN FORUM - Diversity Series
DESCRIPTION:Indigeneity\, Truth and Reconciliation \n\n\n\n\n\n\nRegistration Fee\n	Adult $10.00 CAD\n	Student $5.00 CAD
URL:https://stouffvilleuc.ca/event/open-forum-diversity-series-4/
LOCATION:Hummingbird Hub\, 6331 Main Street\, Stouffville\, Ontario\, L4A\, Canada
CATEGORIES:CCFA
END:VEVENT
BEGIN:VEVENT
DTSTART;TZID=America/Toronto:20190423T150000
DTEND;TZID=America/Toronto:20190423T170000
DTSTAMP:20260423T132242
CREATED:20190117T035120Z
LAST-MODIFIED:20190328T040938Z
UID:2278-1556031600-1556038800@stouffvilleuc.ca
SUMMARY:OPEN FORUM - Diversity Series
DESCRIPTION:Can We Talk About Race? \n \n\n\n\n\n\n\nRegistration Fee\n	Adult $10.00 CAD\n	Student $5.00 CAD
URL:https://stouffvilleuc.ca/event/open-forum-diversity-series-3/
LOCATION:Hummingbird Hub\, 6331 Main Street\, Stouffville\, Ontario\, L4A\, Canada
CATEGORIES:CCFA
END:VEVENT
BEGIN:VEVENT
DTSTART;TZID=America/Toronto:20190326T150000
DTEND;TZID=America/Toronto:20190326T170000
DTSTAMP:20260423T132242
CREATED:20190117T035119Z
LAST-MODIFIED:20190326T165141Z
UID:2277-1553612400-1553619600@stouffvilleuc.ca
SUMMARY:OPEN FORUM - Diversity Series
DESCRIPTION:HOW MANY GENDERS ARE THERE?\n\n\n\n\n\n\n\n\n\n  \n \n\n\n\nDiversity -Genders Registration Fee\n\n\n\nAdult $10.00 CAD\nStudent $5.00 CAD\n\n\n\n\n  \n\n\n\nOpen Forum Diversity Series is a Monthly Interactive And Professionally Facilitated Presentation And Discussion Group on diversity and inclusion sponsored by Stouffville United Church: Creating Community For All. Facilitated by Cheryl McConney-Wilson M. of Ed (OISE) – Diversity Specialist .March’s Topic is “HOW MANY GENDERS ARE THERE” on Tuesday\, MARCH 26th starting at 7pm at Hummingbird Hub (6331 Main Street\, Stouffville). Registration is required please enroll at:   Registration Fee is $10 adult and $5 for students by PayPal.Registration permitted at the door\, subject to availability.  For information please email at creatingcommunityforall@stouffvilleuc.ca
URL:https://stouffvilleuc.ca/event/open-forum-diversity-series-2/
LOCATION:Hummingbird Hub\, 6331 Main Street\, Stouffville\, Ontario\, L4A\, Canada
CATEGORIES:CCFA
END:VEVENT
BEGIN:VEVENT
DTSTART;TZID=America/Toronto:20190312T190000
DTEND;TZID=America/Toronto:20190312T210000
DTSTAMP:20260423T132242
CREATED:20190115T033447Z
LAST-MODIFIED:20190227T205135Z
UID:2143-1552417200-1552424400@stouffvilleuc.ca
SUMMARY:OPEN FORUM - Youth Mental Health and Wellness
DESCRIPTION:Social Media and Bullying\n\n\n\n\n\n\n\n\n  \n \n\n\n\nSocial Media and Bullying Registration Fee\n\n\n\nAdult $10.00 CAD\nStudent $5.00 CAD\n\n\n\n\n  \n\n\n\nOpen Forum – Youth Mental Health And Wellness series is a Monthly Interactive And Professionally Facilitated Presentation And Discussion Group on topical issues for parents\, families and youth concerning Youth Mental Health and Wellness sponsored by Stouffville United Church: Creating Community For All.   Facilitated by Lyndsay Thompson MDiv\, RP (Qualifying)  \n\n\n\nMarch’s Topic is “SOCIAL MEDIA AND BULLYING” on Tuesday\, March 12th starting at 7pm at Hummingbird Hub (6331 Main Street\, Stouffville).  We would like to welcome  our guest speakers:  \n\n\n\nMichelle Laxamana MDiv. RP Qualifying\, CAMFT.   Michelle is a former teacher and now a Registed Phsychothereapist (Qualifying).   \n\n\n\n Jamie Sutherland CYW\, BA Hon\, MDiv. (Cand) CAMFT.  Jamie is a Child and Youth Counsellor\, and is currently finishing a Masters Degree in Clinical Counselling. \n\n\n\nBoth have extensive experience with children\, youth and parents\, specializing in youth-related topics like social media\, bullying\, parenting\, depression and identity.Registration is required please enroll at: Registration Fee is $10 adult and $5 for students by PayPal.Registration permitted at the door\, subject to availability. For information please email at creatingcommunityforall@stouffvilleuc.ca
URL:https://stouffvilleuc.ca/event/open-forum-youth-mental-health-and-wellness-5/
LOCATION:Hummingbird Hub\, 6331 Main Street\, Stouffville\, Ontario\, L4A\, Canada
CATEGORIES:CCFA
ATTACH;FMTTYPE=image/gif:https://stouffvilleuc.ca/wp-content/uploads/2019/01/CCFA-website-header-e1547454464235.gif
END:VEVENT
BEGIN:VEVENT
DTSTART;TZID=America/Toronto:20190226T190000
DTEND;TZID=America/Toronto:20190226T210000
DTSTAMP:20260423T132242
CREATED:20190115T033450Z
LAST-MODIFIED:20190217T065212Z
UID:2146-1551207600-1551214800@stouffvilleuc.ca
SUMMARY:OPEN FORUM - Diversity Series
DESCRIPTION:Diversity and Inclusion 101\n\n\n\n\n\n\n\n\n\n\n\n\n\n\nDiversity 101 Registration Fee\n	Adult $10.00 CAD\n	Student $5.00 CAD\n \n\n\n\n\n\n\n\n\n\nOpen Forum Diversity Series is a Monthly Interactive And Professionally Facilitated Presentation And Discussion Group on diversity and inclusion sponsored by Stouffville United Church: Creating Community For All. Facilitated by Cheryl McConney-Wilson M. of Ed (OISE) – Diversity Specialist .February’s Topic is “Diversity and Inclusion 101: History & Language” on Tuesday\, FEBRUARY 26th starting at 7pm at Hummingbird Hub (6331 Main Street\, Stouffville). Registration is required please enroll at:   Registration Fee is $10 adult and $5 for students by PayPal.Registration permitted at the door\, subject to availability.  For information please email at creatingcommunityforall@stouffvilleuc.ca
URL:https://stouffvilleuc.ca/event/open-forum-diversity-series/
LOCATION:Hummingbird Hub\, 6331 Main Street\, Stouffville\, Ontario\, L4A\, Canada
CATEGORIES:CCFA
ORGANIZER;CN="CCFA":MAILTO:creatingcommunityforall@stouffvilleuc.ca
END:VEVENT
END:VCALENDAR